BEGIN:VCALENDAR
VERSION:2.0
PRODID:-//New Jersey Motorsports Park - ECPv6.15.7//NONSGML v1.0//EN
CALSCALE:GREGORIAN
METHOD:PUBLISH
X-WR-CALNAME:New Jersey Motorsports Park
X-ORIGINAL-URL:https://njmp.com
X-WR-CALDESC:Events for New Jersey Motorsports Park
REFRESH-INTERVAL;VALUE=DURATION:PT1H
X-Robots-Tag:noindex
X-PUBLISHED-TTL:PT1H
BEGIN:VTIMEZONE
TZID:America/New_York
BEGIN:DAYLIGHT
TZOFFSETFROM:-0500
TZOFFSETTO:-0400
TZNAME:EDT
DTSTART:20250309T070000
END:DAYLIGHT
BEGIN:STANDARD
TZOFFSETFROM:-0400
TZOFFSETTO:-0500
TZNAME:EST
DTSTART:20251102T060000
END:STANDARD
BEGIN:DAYLIGHT
TZOFFSETFROM:-0500
TZOFFSETTO:-0400
TZNAME:EDT
DTSTART:20260308T070000
END:DAYLIGHT
BEGIN:STANDARD
TZOFFSETFROM:-0400
TZOFFSETTO:-0500
TZNAME:EST
DTSTART:20261101T060000
END:STANDARD
BEGIN:DAYLIGHT
TZOFFSETFROM:-0500
TZOFFSETTO:-0400
TZNAME:EDT
DTSTART:20270314T070000
END:DAYLIGHT
BEGIN:STANDARD
TZOFFSETFROM:-0400
TZOFFSETTO:-0500
TZNAME:EST
DTSTART:20271107T060000
END:STANDARD
END:VTIMEZONE
BEGIN:VEVENT
DTSTART;VALUE=DATE:20260423
DTEND;VALUE=DATE:20260424
DTSTAMP:20260421T190538
CREATED:20251118T182738Z
LAST-MODIFIED:20251222T170501Z
UID:10002571-1776902400-1776988799@njmp.com
SUMMARY:NJMP VIP Riders Club (Thunderbolt)
DESCRIPTION:The Riders Club membership program combines the most powerful motorcycle club management\, experienced instructors and NJMP to offer premier motorcycle-only track days\, membership benefits and the greatest environment to ride your motorcycles in a controlled and safe program. \nLearn more: https://njmp.com/the-riders-club/
URL:https://njmp.com/event/njmp-vip-riders-club-thunderbolt/2026-04-23/
CATEGORIES:Thunderbolt
ATTACH;FMTTYPE=image/png:https://njmp.com/wp-content/uploads/2024/01/Riders-Club-Logo-New-e1705519316729.png
END:VEVENT
BEGIN:VEVENT
DTSTART;VALUE=DATE:20260611
DTEND;VALUE=DATE:20260612
DTSTAMP:20260421T190538
CREATED:20251118T182738Z
LAST-MODIFIED:20251222T170501Z
UID:10002572-1781164800-1781200800@njmp.com
SUMMARY:NJMP VIP Riders Club (Thunderbolt)
DESCRIPTION:The Riders Club membership program combines the most powerful motorcycle club management\, experienced instructors and NJMP to offer premier motorcycle-only track days\, membership benefits and the greatest environment to ride your motorcycles in a controlled and safe program. \nLearn more: https://njmp.com/the-riders-club/
URL:https://njmp.com/event/njmp-vip-riders-club-thunderbolt/2026-06-11/
CATEGORIES:Thunderbolt
ATTACH;FMTTYPE=image/png:https://njmp.com/wp-content/uploads/2024/01/Riders-Club-Logo-New-e1705519316729.png
END:VEVENT
BEGIN:VEVENT
DTSTART;VALUE=DATE:20260715
DTEND;VALUE=DATE:20260716
DTSTAMP:20260421T190538
CREATED:20251118T182738Z
LAST-MODIFIED:20251222T170501Z
UID:10002573-1784102400-1784138400@njmp.com
SUMMARY:NJMP VIP Riders Club (Thunderbolt)
DESCRIPTION:The Riders Club membership program combines the most powerful motorcycle club management\, experienced instructors and NJMP to offer premier motorcycle-only track days\, membership benefits and the greatest environment to ride your motorcycles in a controlled and safe program. \nLearn more: https://njmp.com/the-riders-club/
URL:https://njmp.com/event/njmp-vip-riders-club-thunderbolt/2026-07-15/
CATEGORIES:Thunderbolt
ATTACH;FMTTYPE=image/png:https://njmp.com/wp-content/uploads/2024/01/Riders-Club-Logo-New-e1705519316729.png
END:VEVENT
BEGIN:VEVENT
DTSTART;VALUE=DATE:20260827
DTEND;VALUE=DATE:20260828
DTSTAMP:20260421T190538
CREATED:20251118T182738Z
LAST-MODIFIED:20251222T170501Z
UID:10002606-1787817600-1787853600@njmp.com
SUMMARY:NJMP VIP Riders Club (Thunderbolt)
DESCRIPTION:The Riders Club membership program combines the most powerful motorcycle club management\, experienced instructors and NJMP to offer premier motorcycle-only track days\, membership benefits and the greatest environment to ride your motorcycles in a controlled and safe program. \nLearn more: https://njmp.com/the-riders-club/
URL:https://njmp.com/event/njmp-vip-riders-club-thunderbolt/2026-08-27/
CATEGORIES:Thunderbolt
ATTACH;FMTTYPE=image/png:https://njmp.com/wp-content/uploads/2024/01/Riders-Club-Logo-New-e1705519316729.png
END:VEVENT
BEGIN:VEVENT
DTSTART;VALUE=DATE:20260916
DTEND;VALUE=DATE:20260917
DTSTAMP:20260421T190538
CREATED:20251118T182738Z
LAST-MODIFIED:20251222T170501Z
UID:10002575-1789545600-1789581600@njmp.com
SUMMARY:NJMP VIP Riders Club (Thunderbolt)
DESCRIPTION:The Riders Club membership program combines the most powerful motorcycle club management\, experienced instructors and NJMP to offer premier motorcycle-only track days\, membership benefits and the greatest environment to ride your motorcycles in a controlled and safe program. \nLearn more: https://njmp.com/the-riders-club/
URL:https://njmp.com/event/njmp-vip-riders-club-thunderbolt/2026-09-16/
CATEGORIES:Thunderbolt
ATTACH;FMTTYPE=image/png:https://njmp.com/wp-content/uploads/2024/01/Riders-Club-Logo-New-e1705519316729.png
END:VEVENT
END:VCALENDAR