BEGIN:VCALENDAR
VERSION:2.0
PRODID:-//New Jersey Motorsports Park - ECPv6.15.7//NONSGML v1.0//EN
CALSCALE:GREGORIAN
METHOD:PUBLISH
X-WR-CALNAME:New Jersey Motorsports Park
X-ORIGINAL-URL:https://njmp.com
X-WR-CALDESC:Events for New Jersey Motorsports Park
REFRESH-INTERVAL;VALUE=DURATION:PT1H
X-Robots-Tag:noindex
X-PUBLISHED-TTL:PT1H
BEGIN:VTIMEZONE
TZID:America/New_York
BEGIN:DAYLIGHT
TZOFFSETFROM:-0500
TZOFFSETTO:-0400
TZNAME:EDT
DTSTART:20250309T070000
END:DAYLIGHT
BEGIN:STANDARD
TZOFFSETFROM:-0400
TZOFFSETTO:-0500
TZNAME:EST
DTSTART:20251102T060000
END:STANDARD
BEGIN:DAYLIGHT
TZOFFSETFROM:-0500
TZOFFSETTO:-0400
TZNAME:EDT
DTSTART:20260308T070000
END:DAYLIGHT
BEGIN:STANDARD
TZOFFSETFROM:-0400
TZOFFSETTO:-0500
TZNAME:EST
DTSTART:20261101T060000
END:STANDARD
BEGIN:DAYLIGHT
TZOFFSETFROM:-0500
TZOFFSETTO:-0400
TZNAME:EDT
DTSTART:20270314T070000
END:DAYLIGHT
BEGIN:STANDARD
TZOFFSETFROM:-0400
TZOFFSETTO:-0500
TZNAME:EST
DTSTART:20271107T060000
END:STANDARD
END:VTIMEZONE
BEGIN:VEVENT
DTSTART;VALUE=DATE:20260426
DTEND;VALUE=DATE:20260427
DTSTAMP:20260421T173829
CREATED:20251118T173107Z
LAST-MODIFIED:20260311T193703Z
UID:10002798-1777190400-1777222800@njmp.com
SUMMARY:North East Track Club (NETC) (Lightning)
DESCRIPTION:Register your car for NETC! \nLearn more: https://www.motorsportreg.com/orgs/north-east-track-club-netc 
URL:https://njmp.com/event/north-east-track-club-netc-lightning/2026-04-26/
CATEGORIES:Lightning
END:VEVENT
BEGIN:VEVENT
DTSTART;VALUE=DATE:20260719
DTEND;VALUE=DATE:20260720
DTSTAMP:20260421T173829
CREATED:20251118T173107Z
LAST-MODIFIED:20260311T193703Z
UID:10002521-1784448000-1784480400@njmp.com
SUMMARY:North East Track Club (NETC) (Lightning)
DESCRIPTION:Register your car for NETC! \nLearn more: https://www.motorsportreg.com/orgs/north-east-track-club-netc 
URL:https://njmp.com/event/north-east-track-club-netc-lightning/2026-07-19/
CATEGORIES:Lightning
END:VEVENT
END:VCALENDAR