BEGIN:VCALENDAR
VERSION:2.0
PRODID:-//New Jersey Motorsports Park - ECPv6.15.7//NONSGML v1.0//EN
CALSCALE:GREGORIAN
METHOD:PUBLISH
X-ORIGINAL-URL:https://njmp.com
X-WR-CALDESC:Events for New Jersey Motorsports Park
REFRESH-INTERVAL;VALUE=DURATION:PT1H
X-Robots-Tag:noindex
X-PUBLISHED-TTL:PT1H
BEGIN:VTIMEZONE
TZID:America/New_York
BEGIN:DAYLIGHT
TZOFFSETFROM:-0500
TZOFFSETTO:-0400
TZNAME:EDT
DTSTART:20250309T070000
END:DAYLIGHT
BEGIN:STANDARD
TZOFFSETFROM:-0400
TZOFFSETTO:-0500
TZNAME:EST
DTSTART:20251102T060000
END:STANDARD
BEGIN:DAYLIGHT
TZOFFSETFROM:-0500
TZOFFSETTO:-0400
TZNAME:EDT
DTSTART:20260308T070000
END:DAYLIGHT
BEGIN:STANDARD
TZOFFSETFROM:-0400
TZOFFSETTO:-0500
TZNAME:EST
DTSTART:20261101T060000
END:STANDARD
BEGIN:DAYLIGHT
TZOFFSETFROM:-0500
TZOFFSETTO:-0400
TZNAME:EDT
DTSTART:20270314T070000
END:DAYLIGHT
BEGIN:STANDARD
TZOFFSETFROM:-0400
TZOFFSETTO:-0500
TZNAME:EST
DTSTART:20271107T060000
END:STANDARD
END:VTIMEZONE
BEGIN:VEVENT
DTSTART;VALUE=DATE:20260908
DTEND;VALUE=DATE:20260910
DTSTAMP:20260424T191231
CREATED:20251118T175508Z
LAST-MODIFIED:20251118T175508Z
UID:10002527-1788854400-1788976800@njmp.com
SUMMARY:Yamaha Champions Riding School (Thunderbolt)
DESCRIPTION:Champion Habits – Data-driven techniques to elevate safety\, skill\, and joy for every rider. Learn the proven habits\, skills\, and mindset of the world’s top motorcycle riders—quantifiable\, repeatable\, and backed by real data. \nLearn more and register: https://ridelikeachampion.com/courses-page/
URL:https://njmp.com/event/yamaha-champions-riding-school-thunderbolt/2026-09-08/
CATEGORIES:Thunderbolt
END:VEVENT
BEGIN:VEVENT
DTSTART;VALUE=DATE:20260910
DTEND;VALUE=DATE:20260912
DTSTAMP:20260424T191231
CREATED:20251210T165038Z
LAST-MODIFIED:20251210T165038Z
UID:10002598-1788998400-1789171199@njmp.com
SUMMARY:Chin Track Days (Thunderbolt)
DESCRIPTION:Chin Track Days is the leading provider of non-competition track events for sports car enthusiasts. When you acquired a sports car\, did you notice that advanced driving skills were not included? Chin Track Days provides advanced driver coaching for you to acquire those skills. With Chin Track Days\, enthusiasts can enjoy their cars and receive driver education at some of the legendary road courses in the USA.
URL:https://njmp.com/event/chin-track-days-thunderbolt/
CATEGORIES:Thunderbolt
END:VEVENT
BEGIN:VEVENT
DTSTART;VALUE=DATE:20260912
DTEND;VALUE=DATE:20260914
DTSTAMP:20260424T191231
CREATED:20260107T161222Z
LAST-MODIFIED:20260107T161222Z
UID:10002612-1789200000-1789318800@njmp.com
SUMMARY:Evolve GT (Thunderbolt)
DESCRIPTION:Evolve GT has redesigned track days to provide a safe and structured riding environment for sportbike riders of all skill levels. Our coaches and instructors include many top level racers and track day riders who have the right personality\, skills and are passionate about this sport. We want you to enjoy your riding experience while building your confidence and skill levels in your riding ability.
URL:https://njmp.com/event/evolve-gt-thunderbolt/2026-09-12/
CATEGORIES:Thunderbolt
END:VEVENT
BEGIN:VEVENT
DTSTART;VALUE=DATE:20260916
DTEND;VALUE=DATE:20260917
DTSTAMP:20260424T191231
CREATED:20251118T182738Z
LAST-MODIFIED:20251222T170501Z
UID:10002575-1789545600-1789581600@njmp.com
SUMMARY:NJMP VIP Riders Club (Thunderbolt)
DESCRIPTION:The Riders Club membership program combines the most powerful motorcycle club management\, experienced instructors and NJMP to offer premier motorcycle-only track days\, membership benefits and the greatest environment to ride your motorcycles in a controlled and safe program. \nLearn more: https://njmp.com/the-riders-club/
URL:https://njmp.com/event/njmp-vip-riders-club-thunderbolt/2026-09-16/
CATEGORIES:Thunderbolt
ATTACH;FMTTYPE=image/png:https://njmp.com/wp-content/uploads/2024/01/Riders-Club-Logo-New-e1705519316729.png
END:VEVENT
BEGIN:VEVENT
DTSTART;VALUE=DATE:20260917
DTEND;VALUE=DATE:20260918
DTSTAMP:20260424T191231
CREATED:20251118T182443Z
LAST-MODIFIED:20260402T204739Z
UID:10002568-1789632000-1789668000@njmp.com
SUMMARY:NJMP Riders Club (Thunderbolt)
DESCRIPTION:The Riders Club membership program combines the most powerful motorcycle club management\, experienced instructors and NJMP to offer premier motorcycle-only track days\, membership benefits and the greatest environment to ride your motorcycles in a controlled and safe program. \nLearn more: https://njmp.com/the-riders-club/
URL:https://njmp.com/event/njmp-riders-club-thunderbolt/2026-09-17/
CATEGORIES:Thunderbolt
ATTACH;FMTTYPE=image/png:https://njmp.com/wp-content/uploads/2024/01/Riders-Club-Logo-New-e1705519316729.png
END:VEVENT
BEGIN:VEVENT
DTSTART;VALUE=DATE:20260919
DTEND;VALUE=DATE:20260920
DTSTAMP:20260424T191231
CREATED:20260127T201435Z
LAST-MODIFIED:20260127T201435Z
UID:10002766-1789776000-1789862399@njmp.com
SUMMARY:FuelFest New Jersey (Thunderbolt)
DESCRIPTION:Experience the EPIC Fast and Furious inspired phenomenon! Hosted by Cody Walker and Tyrese Gibson this massive car show features drifting\, roll racing\, vendor exhibits\, VIP experiences\, ride alongs\, and so much more! Buy your tickets NOW!
URL:https://njmp.com/event/fuelfest-new-jersey-thunderbolt/
CATEGORIES:Thunderbolt
ATTACH;FMTTYPE=image/png:https://njmp.com/wp-content/uploads/2024/12/FuelFest.png
END:VEVENT
BEGIN:VEVENT
DTSTART;VALUE=DATE:20260920
DTEND;VALUE=DATE:20260921
DTSTAMP:20260424T191231
CREATED:20251118T180327Z
LAST-MODIFIED:20251118T180327Z
UID:10002537-1789891200-1789927200@njmp.com
SUMMARY:NJMP Drivers Club (Thunderbolt)
DESCRIPTION:Drivers Club members days are exclusive to members and to their hosted guests\, and offer progressive run groups based on drivers experience and car type. With hours of track time and a catered breakfast and lunch\, a Drivers Club member day is a driver’s dream experience. And with more than 35 of them each season\, there are a lot of miles and smiles on offer.\n\n\nLearn more: https://njmp.com/the-drivers-club/
URL:https://njmp.com/event/njmp-drivers-club-thunderbolt/2026-09-20/
CATEGORIES:Thunderbolt
ATTACH;FMTTYPE=image/jpeg:https://njmp.com/wp-content/uploads/2024/01/dclub.jpg
END:VEVENT
BEGIN:VEVENT
DTSTART;VALUE=DATE:20260921
DTEND;VALUE=DATE:20260922
DTSTAMP:20260424T191231
CREATED:20251118T183044Z
LAST-MODIFIED:20251118T183044Z
UID:10002579-1789977600-1790013600@njmp.com
SUMMARY:NJMP Advanced Riders Club (Thunderbolt)
DESCRIPTION:The Riders Club membership program combines the most powerful motorcycle club management\, experienced instructors and NJMP to offer premier motorcycle-only track days\, membership benefits and the greatest environment to ride your motorcycles in a controlled and safe program. *This track day is limited to Advanced\, Intermediate\, Expert & Small Bikes Only \nLearn more: https://njmp.com/the-riders-club/
URL:https://njmp.com/event/njmp-advanced-riders-club-thunderbolt/2026-09-21/
CATEGORIES:Thunderbolt
ATTACH;FMTTYPE=image/png:https://njmp.com/wp-content/uploads/2024/01/Riders-Club-Logo-New-e1705519316729.png
END:VEVENT
BEGIN:VEVENT
DTSTART;VALUE=DATE:20260925
DTEND;VALUE=DATE:20260928
DTSTAMP:20260424T191231
CREATED:20260127T201631Z
LAST-MODIFIED:20260127T201631Z
UID:10002767-1790294400-1790553599@njmp.com
SUMMARY:MotoAmerica (Thunderbolt)
DESCRIPTION:Immerse yourself with Friday qualifying and two full weekend days of racing in close proximity to the motorcycles and racers themselves with our open race paddock. Bring the family and enjoy food\, stunt shows and Kids Zone with carnival games! Take advantage of multiple ticket options!
URL:https://njmp.com/event/motoamerica-thunderbolt/
CATEGORIES:Thunderbolt
ATTACH;FMTTYPE=image/png:https://njmp.com/wp-content/uploads/2024/12/MotoAmerica.png
END:VEVENT
BEGIN:VEVENT
DTSTART;VALUE=DATE:20261001
DTEND;VALUE=DATE:20261003
DTSTAMP:20260424T191231
CREATED:20251118T180327Z
LAST-MODIFIED:20251118T180327Z
UID:10002538-1790841600-1790964000@njmp.com
SUMMARY:NJMP Drivers Club (Thunderbolt)
DESCRIPTION:Drivers Club members days are exclusive to members and to their hosted guests\, and offer progressive run groups based on drivers experience and car type. With hours of track time and a catered breakfast and lunch\, a Drivers Club member day is a driver’s dream experience. And with more than 35 of them each season\, there are a lot of miles and smiles on offer.\n\n\nLearn more: https://njmp.com/the-drivers-club/
URL:https://njmp.com/event/njmp-drivers-club-thunderbolt/2026-10-01/
CATEGORIES:Thunderbolt
ATTACH;FMTTYPE=image/jpeg:https://njmp.com/wp-content/uploads/2024/01/dclub.jpg
END:VEVENT
BEGIN:VEVENT
DTSTART;VALUE=DATE:20261003
DTEND;VALUE=DATE:20261005
DTSTAMP:20260424T191231
CREATED:20251210T170414Z
LAST-MODIFIED:20251210T170414Z
UID:10002601-1791014400-1791133200@njmp.com
SUMMARY:Schattenbaum PCA (Thunderbolt)
DESCRIPTION:Register for a track day with Schattenbaum Region Porsche Club of America!
URL:https://njmp.com/event/schattenbaum-pca-thunderbolt/2026-10-03/
CATEGORIES:Thunderbolt
END:VEVENT
BEGIN:VEVENT
DTSTART;VALUE=DATE:20261005
DTEND;VALUE=DATE:20261006
DTSTAMP:20260424T191231
CREATED:20251118T182443Z
LAST-MODIFIED:20260402T204739Z
UID:10002569-1791187200-1791223200@njmp.com
SUMMARY:NJMP Riders Club (Thunderbolt)
DESCRIPTION:The Riders Club membership program combines the most powerful motorcycle club management\, experienced instructors and NJMP to offer premier motorcycle-only track days\, membership benefits and the greatest environment to ride your motorcycles in a controlled and safe program. \nLearn more: https://njmp.com/the-riders-club/
URL:https://njmp.com/event/njmp-riders-club-thunderbolt/2026-10-05/
CATEGORIES:Thunderbolt
ATTACH;FMTTYPE=image/png:https://njmp.com/wp-content/uploads/2024/01/Riders-Club-Logo-New-e1705519316729.png
END:VEVENT
BEGIN:VEVENT
DTSTART;VALUE=DATE:20261009
DTEND;VALUE=DATE:20261010
DTSTAMP:20260424T191231
CREATED:20251118T182443Z
LAST-MODIFIED:20260402T204739Z
UID:10002570-1791532800-1791568800@njmp.com
SUMMARY:NJMP Riders Club (Thunderbolt)
DESCRIPTION:The Riders Club membership program combines the most powerful motorcycle club management\, experienced instructors and NJMP to offer premier motorcycle-only track days\, membership benefits and the greatest environment to ride your motorcycles in a controlled and safe program. \nLearn more: https://njmp.com/the-riders-club/
URL:https://njmp.com/event/njmp-riders-club-thunderbolt/2026-10-09/
CATEGORIES:Thunderbolt
ATTACH;FMTTYPE=image/png:https://njmp.com/wp-content/uploads/2024/01/Riders-Club-Logo-New-e1705519316729.png
END:VEVENT
BEGIN:VEVENT
DTSTART;VALUE=DATE:20261010
DTEND;VALUE=DATE:20261011
DTSTAMP:20260424T191231
CREATED:20260107T175929Z
LAST-MODIFIED:20260107T175929Z
UID:10002664-1791619200-1791651600@njmp.com
SUMMARY:NJMP Riders Club powered by RevZilla (Thunderbolt)
DESCRIPTION:The Riders Club membership program combines the most powerful motorcycle club management\, experienced instructors and NJMP to offer premier motorcycle-only track days\, membership benefits and the greatest environment to ride your motorcycles in a controlled and safe program. This track day is powered by our partner: RevZilla  \nLearn more: https://njmp.com/the-riders-club/
URL:https://njmp.com/event/njmp-riders-club-powered-by-revzilla-thunderbolt/2026-10-10/
CATEGORIES:Thunderbolt
ATTACH;FMTTYPE=image/png:https://njmp.com/wp-content/uploads/2025/02/Revzilla-logo.png
END:VEVENT
BEGIN:VEVENT
DTSTART;VALUE=DATE:20261011
DTEND;VALUE=DATE:20261012
DTSTAMP:20260424T191231
CREATED:20251118T182443Z
LAST-MODIFIED:20260402T204739Z
UID:10002655-1791705600-1791738000@njmp.com
SUMMARY:NJMP Riders Club (Thunderbolt)
DESCRIPTION:The Riders Club membership program combines the most powerful motorcycle club management\, experienced instructors and NJMP to offer premier motorcycle-only track days\, membership benefits and the greatest environment to ride your motorcycles in a controlled and safe program. \nLearn more: https://njmp.com/the-riders-club/
URL:https://njmp.com/event/njmp-riders-club-thunderbolt/2026-10-11/
CATEGORIES:Thunderbolt
ATTACH;FMTTYPE=image/png:https://njmp.com/wp-content/uploads/2024/01/Riders-Club-Logo-New-e1705519316729.png
END:VEVENT
BEGIN:VEVENT
DTSTART;VALUE=DATE:20261012
DTEND;VALUE=DATE:20261013
DTSTAMP:20260424T191231
CREATED:20260107T162032Z
LAST-MODIFIED:20260107T162032Z
UID:10002623-1791792000-1791824400@njmp.com
SUMMARY:Motorsports Enthusiasts (Thunderbolt)
DESCRIPTION:Tired of driving in a straight line? Want to find the limits of your car\, not just stoplight to stoplight\, but on the edge of traction during acceleration\, braking\, and cornering? You’ve come to the right place! We will show you the limits\, safely and in a controlled environment.
URL:https://njmp.com/event/motorsports-enthusiasts-thunderbolt/2026-10-12/
CATEGORIES:Thunderbolt
END:VEVENT
BEGIN:VEVENT
DTSTART;VALUE=DATE:20261014
DTEND;VALUE=DATE:20261015
DTSTAMP:20260424T191231
CREATED:20260107T164231Z
LAST-MODIFIED:20260107T164231Z
UID:10002648-1791964800-1791997200@njmp.com
SUMMARY:Track Night in America (Thunderbolt)
DESCRIPTION:Only have a few hours to spare but want to drive on a racetrack? SCCA’s Track Night in America Driven by Tire Rack is your ticket to fun! Track Nights are laid back\, affordable and an amazing opportunity to experience racetracks in a no-pressure environment. All you need is a mechanically-sound (street!) car and a helmet… making Track Night undeniably the fastest way to get on a racetrack. Never done it before? That’s great! Because Track Night offers the Hawk Performance Novice Experience\, where you’ll learn driving etiquette to ensure you (and everyone else) get the most out of your time at the track. With Track Nights at more than 30 racetracks across the United States\, finding an event near you is a breeze.
URL:https://njmp.com/event/track-night-in-america-thunderbolt/2026-10-14/
CATEGORIES:Thunderbolt
END:VEVENT
BEGIN:VEVENT
DTSTART;VALUE=DATE:20261016
DTEND;VALUE=DATE:20261017
DTSTAMP:20260424T191231
CREATED:20251118T181601Z
LAST-MODIFIED:20260311T193355Z
UID:10002550-1792137600-1792173600@njmp.com
SUMMARY:NJMP Advanced Open Track Day (Thunderbolt)
DESCRIPTION:If you have ever wanted something different than the normal 20-30 minutes sessions by run group format\, a Ciocca Dealership Advanced Driver Open Track Day may be for you. \nLearn more: https://njmp.com/njmp-advanced-track-days/
URL:https://njmp.com/event/njmp-advanced-open-track-day-thunderbolt/2026-10-16/
CATEGORIES:Thunderbolt
ATTACH;FMTTYPE=image/jpeg:https://njmp.com/wp-content/uploads/2024/01/NJMPDC-White-Group-08-06-2022-33888-ZF-7651-46408-1-349.jpg
END:VEVENT
BEGIN:VEVENT
DTSTART;VALUE=DATE:20261017
DTEND;VALUE=DATE:20261019
DTSTAMP:20260424T191231
CREATED:20251118T180327Z
LAST-MODIFIED:20251118T180327Z
UID:10002539-1792224000-1792346400@njmp.com
SUMMARY:NJMP Drivers Club (Thunderbolt)
DESCRIPTION:Drivers Club members days are exclusive to members and to their hosted guests\, and offer progressive run groups based on drivers experience and car type. With hours of track time and a catered breakfast and lunch\, a Drivers Club member day is a driver’s dream experience. And with more than 35 of them each season\, there are a lot of miles and smiles on offer.\n\n\nLearn more: https://njmp.com/the-drivers-club/
URL:https://njmp.com/event/njmp-drivers-club-thunderbolt/2026-10-17/
CATEGORIES:Thunderbolt
ATTACH;FMTTYPE=image/jpeg:https://njmp.com/wp-content/uploads/2024/01/dclub.jpg
END:VEVENT
BEGIN:VEVENT
DTSTART;VALUE=DATE:20261019
DTEND;VALUE=DATE:20261020
DTSTAMP:20260424T191231
CREATED:20251203T180540Z
LAST-MODIFIED:20251203T180540Z
UID:10002586-1792396800-1792429200@njmp.com
SUMMARY:TrackXperienZ (Thunderbolt)
DESCRIPTION:Register Now for TrackXperienZ. TrackXperienZ is an inspired group that provide the ultimate driving experience for drivers of all levels to share the same passion.  We pride ourselves in giving our guests the ultimate driving experience where they can enjoy their vehicles in a controlled/enclosed environment inside a track circuit.
URL:https://njmp.com/event/trackxperienz-thunderbolt/2026-10-19/
CATEGORIES:Thunderbolt
END:VEVENT
BEGIN:VEVENT
DTSTART;VALUE=DATE:20261026
DTEND;VALUE=DATE:20261027
DTSTAMP:20260424T191231
CREATED:20260107T162032Z
LAST-MODIFIED:20260107T162032Z
UID:10002624-1793001600-1793034000@njmp.com
SUMMARY:Motorsports Enthusiasts (Thunderbolt)
DESCRIPTION:Tired of driving in a straight line? Want to find the limits of your car\, not just stoplight to stoplight\, but on the edge of traction during acceleration\, braking\, and cornering? You’ve come to the right place! We will show you the limits\, safely and in a controlled environment.
URL:https://njmp.com/event/motorsports-enthusiasts-thunderbolt/2026-10-26/
CATEGORIES:Thunderbolt
END:VEVENT
BEGIN:VEVENT
DTSTART;VALUE=DATE:20261031
DTEND;VALUE=DATE:20261102
DTSTAMP:20260424T191231
CREATED:20251210T170414Z
LAST-MODIFIED:20251210T170414Z
UID:10002602-1793433600-1793552400@njmp.com
SUMMARY:Schattenbaum PCA (Thunderbolt)
DESCRIPTION:Register for a track day with Schattenbaum Region Porsche Club of America!
URL:https://njmp.com/event/schattenbaum-pca-thunderbolt/2026-10-31/
CATEGORIES:Thunderbolt
END:VEVENT
BEGIN:VEVENT
DTSTART;VALUE=DATE:20261102
DTEND;VALUE=DATE:20261103
DTSTAMP:20260424T191231
CREATED:20260107T162032Z
LAST-MODIFIED:20260107T162032Z
UID:10002625-1793606400-1793638800@njmp.com
SUMMARY:Motorsports Enthusiasts (Thunderbolt)
DESCRIPTION:Tired of driving in a straight line? Want to find the limits of your car\, not just stoplight to stoplight\, but on the edge of traction during acceleration\, braking\, and cornering? You’ve come to the right place! We will show you the limits\, safely and in a controlled environment.
URL:https://njmp.com/event/motorsports-enthusiasts-thunderbolt/2026-11-02/
CATEGORIES:Thunderbolt
END:VEVENT
BEGIN:VEVENT
DTSTART;VALUE=DATE:20261106
DTEND;VALUE=DATE:20261107
DTSTAMP:20260424T191231
CREATED:20260303T195137Z
LAST-MODIFIED:20260303T195137Z
UID:10002790-1793923200-1794009599@njmp.com
SUMMARY:NJMP Track Day (Thunderbolt)
DESCRIPTION:The Progressive Paced Laps experience is for those who want to experience the speed of New Jersey Motorsports Park\, but don’t have previous on-track experience. Drivers will take part in a full day of performance driving education including classroom instruction and (3) 15-minute sessions on track\, led by the official NJMP pace car. Each session will build on the previous\, progressively increasing in speed. Lunch will be provided.
URL:https://njmp.com/event/njmp-track-day-thunderbolt/
CATEGORIES:Thunderbolt
ATTACH;FMTTYPE=image/png:https://njmp.com/wp-content/uploads/2024/03/Track-Days-Website.png
END:VEVENT
BEGIN:VEVENT
DTSTART;VALUE=DATE:20261107
DTEND;VALUE=DATE:20261108
DTSTAMP:20260424T191231
CREATED:20251118T181601Z
LAST-MODIFIED:20260311T193355Z
UID:10002551-1794038400-1794074400@njmp.com
SUMMARY:NJMP Advanced Open Track Day (Thunderbolt)
DESCRIPTION:If you have ever wanted something different than the normal 20-30 minutes sessions by run group format\, a Ciocca Dealership Advanced Driver Open Track Day may be for you. \nLearn more: https://njmp.com/njmp-advanced-track-days/
URL:https://njmp.com/event/njmp-advanced-open-track-day-thunderbolt/2026-11-07/
CATEGORIES:Thunderbolt
ATTACH;FMTTYPE=image/jpeg:https://njmp.com/wp-content/uploads/2024/01/NJMPDC-White-Group-08-06-2022-33888-ZF-7651-46408-1-349.jpg
END:VEVENT
BEGIN:VEVENT
DTSTART;VALUE=DATE:20261108
DTEND;VALUE=DATE:20261109
DTSTAMP:20260424T191231
CREATED:20251118T172905Z
LAST-MODIFIED:20260311T193756Z
UID:10002518-1794096000-1794182399@njmp.com
SUMMARY:North East Track Club (NETC) (Thunderbolt)
DESCRIPTION:Register your car for NETC! \nLearn more: https://www.motorsportreg.com/orgs/north-east-track-club-netc
URL:https://njmp.com/event/north-east-track-club-netc-thunderbolt/
CATEGORIES:Thunderbolt
END:VEVENT
BEGIN:VEVENT
DTSTART;VALUE=DATE:20261113
DTEND;VALUE=DATE:20261115
DTSTAMP:20260424T191231
CREATED:20260107T154424Z
LAST-MODIFIED:20260107T154424Z
UID:10002608-1794528000-1794700799@njmp.com
SUMMARY:American Endurance Racing (Thunderbolt)
DESCRIPTION:Join AER for a 14-hour endurance race around Thunderbolt Raceway. AER’s goal is to provide a fun\, safe environment for experienced drivers to participate in endurance races using almost any production based race car. All AER races will be multi-class races with cars competing against other\, in-class cars. Cars will be classed with other cars with similar performance based on qualifying times posted during qualifying sessions. \n**Free Admission for Spectators
URL:https://njmp.com/event/american-endurance-racing-thunderbolt/
CATEGORIES:Thunderbolt
ATTACH;FMTTYPE=image/jpeg:https://njmp.com/wp-content/uploads/2024/03/i-FQ62Cq8-X3-scaled-1.jpg
END:VEVENT
BEGIN:VEVENT
DTSTART;VALUE=DATE:20261115
DTEND;VALUE=DATE:20261116
DTSTAMP:20260424T191231
CREATED:20251203T180929Z
LAST-MODIFIED:20260311T193519Z
UID:10002590-1794729600-1794762000@njmp.com
SUMMARY:Sports Car Driving Association (SCDA) (Thunderbolt)
DESCRIPTION:The Sports Car Driving Association (SCDA) provides the driving enthusiast the opportunity to experience high performance driving in a safe and controlled environment. SCDA events are strictly driver educational events\, and are non-competitive. SCDA welcomes everyone from novices with no track experience\, as well as seasoned track drivers. We invite you to explore our www.SCDA1.com website to learn more about us and our events at some of the best tracks in the East Coast.
URL:https://njmp.com/event/sports-car-driving-association-scda-thunderbolt/2026-11-15/
CATEGORIES:Thunderbolt
END:VEVENT
END:VCALENDAR