BEGIN:VCALENDAR
VERSION:2.0
PRODID:-//New Jersey Motorsports Park - ECPv6.15.7//NONSGML v1.0//EN
CALSCALE:GREGORIAN
METHOD:PUBLISH
X-ORIGINAL-URL:https://njmp.com
X-WR-CALDESC:Events for New Jersey Motorsports Park
REFRESH-INTERVAL;VALUE=DURATION:PT1H
X-Robots-Tag:noindex
X-PUBLISHED-TTL:PT1H
BEGIN:VTIMEZONE
TZID:America/New_York
BEGIN:DAYLIGHT
TZOFFSETFROM:-0500
TZOFFSETTO:-0400
TZNAME:EDT
DTSTART:20250309T070000
END:DAYLIGHT
BEGIN:STANDARD
TZOFFSETFROM:-0400
TZOFFSETTO:-0500
TZNAME:EST
DTSTART:20251102T060000
END:STANDARD
BEGIN:DAYLIGHT
TZOFFSETFROM:-0500
TZOFFSETTO:-0400
TZNAME:EDT
DTSTART:20260308T070000
END:DAYLIGHT
BEGIN:STANDARD
TZOFFSETFROM:-0400
TZOFFSETTO:-0500
TZNAME:EST
DTSTART:20261101T060000
END:STANDARD
BEGIN:DAYLIGHT
TZOFFSETFROM:-0500
TZOFFSETTO:-0400
TZNAME:EDT
DTSTART:20270314T070000
END:DAYLIGHT
BEGIN:STANDARD
TZOFFSETFROM:-0400
TZOFFSETTO:-0500
TZNAME:EST
DTSTART:20271107T060000
END:STANDARD
END:VTIMEZONE
BEGIN:VEVENT
DTSTART;VALUE=DATE:20260724
DTEND;VALUE=DATE:20260727
DTSTAMP:20260424T015700
CREATED:20260120T181352Z
LAST-MODIFIED:20260120T181352Z
UID:10002720-1784851200-1785110399@njmp.com
SUMMARY:Riesentoter PCA (Thunderbolt)
DESCRIPTION:The Riesentöter (RTR) Region is the twelfth largest and one of the most active regions in the country. Originally founded in 1957 as the Eastern Pennsylvania Region of Porsche Club of America\, we were the second region of PCA to be founded\, and we consisted of 15 members. Changing our name in 1973 to Riesentöter (say Ree-zen-toat-er) which loosely translated from the German means Giant Killer — a whimsical reference to the race track might of the little Porsches over the big Corvettes\, Ferraris\, and Jaguars of the day.
URL:https://njmp.com/event/riesentoter-pca-thunderbolt/
CATEGORIES:Thunderbolt
END:VEVENT
BEGIN:VEVENT
DTSTART;VALUE=DATE:20260727
DTEND;VALUE=DATE:20260728
DTSTAMP:20260424T015700
CREATED:20251118T183044Z
LAST-MODIFIED:20251118T183044Z
UID:10002578-1785139200-1785175200@njmp.com
SUMMARY:NJMP Advanced Riders Club (Thunderbolt)
DESCRIPTION:The Riders Club membership program combines the most powerful motorcycle club management\, experienced instructors and NJMP to offer premier motorcycle-only track days\, membership benefits and the greatest environment to ride your motorcycles in a controlled and safe program. *This track day is limited to Advanced\, Intermediate\, Expert & Small Bikes Only \nLearn more: https://njmp.com/the-riders-club/
URL:https://njmp.com/event/njmp-advanced-riders-club-thunderbolt/2026-07-27/
CATEGORIES:Thunderbolt
ATTACH;FMTTYPE=image/png:https://njmp.com/wp-content/uploads/2024/01/Riders-Club-Logo-New-e1705519316729.png
END:VEVENT
BEGIN:VEVENT
DTSTART;VALUE=DATE:20260801
DTEND;VALUE=DATE:20260803
DTSTAMP:20260424T015700
CREATED:20260107T164100Z
LAST-MODIFIED:20260107T164100Z
UID:10002646-1785542400-1785715199@njmp.com
SUMMARY:New Jersey Lottery SpeedTour with SVRA (Thunderbolt)
DESCRIPTION:Join us for the entire weekend at the New Jersey Lottery SpeedTour! This event is perfect for the whole family! Competitors and vehicles from Formula Race Promotions\, FR Americas\, F4 U.S.\, Sportscar Vintage Racing Association\, and more will be present at SpeedTour events! This is a ticketed event.
URL:https://njmp.com/event/new-jersey-lottery-speedtour-with-svra-thunderbolt/
CATEGORIES:Thunderbolt
ATTACH;FMTTYPE=image/png:https://njmp.com/wp-content/uploads/2024/12/SVRA.png
END:VEVENT
BEGIN:VEVENT
DTSTART;VALUE=DATE:20260803
DTEND;VALUE=DATE:20260804
DTSTAMP:20260424T015700
CREATED:20260107T175929Z
LAST-MODIFIED:20260107T175929Z
UID:10002661-1785744000-1785776400@njmp.com
SUMMARY:NJMP Riders Club powered by RevZilla (Thunderbolt)
DESCRIPTION:The Riders Club membership program combines the most powerful motorcycle club management\, experienced instructors and NJMP to offer premier motorcycle-only track days\, membership benefits and the greatest environment to ride your motorcycles in a controlled and safe program. This track day is powered by our partner: RevZilla  \nLearn more: https://njmp.com/the-riders-club/
URL:https://njmp.com/event/njmp-riders-club-powered-by-revzilla-thunderbolt/2026-08-03/
CATEGORIES:Thunderbolt
ATTACH;FMTTYPE=image/png:https://njmp.com/wp-content/uploads/2025/02/Revzilla-logo.png
END:VEVENT
BEGIN:VEVENT
DTSTART;VALUE=DATE:20260805
DTEND;VALUE=DATE:20260807
DTSTAMP:20260424T015700
CREATED:20251118T171406Z
LAST-MODIFIED:20251118T171406Z
UID:10002514-1785888000-1786060799@njmp.com
SUMMARY:Jersey Shore PCA (Thunderbolt)
DESCRIPTION:Register Now! Whether you’re a regular attendee or a newcomer\, they invite you to join them. We thrive on new ideas\, fresh faces\, and members who are passionate about shaping the future of our club. Keep an eye on our website and your inbox for more information and updates. Let’s make this club unforgettable together! \nLearn more: https://www.jsrpca.com/
URL:https://njmp.com/event/jersey-shore-pca-thunderbolt/
CATEGORIES:Thunderbolt
END:VEVENT
BEGIN:VEVENT
DTSTART;VALUE=DATE:20260807
DTEND;VALUE=DATE:20260810
DTSTAMP:20260424T015700
CREATED:20251210T170601Z
LAST-MODIFIED:20251210T170601Z
UID:10002603-1786060800-1786319999@njmp.com
SUMMARY:Schattenbaum Showdown (Thunderbolt)
DESCRIPTION:Register for this club race event with Schattenbaum Region Porsche Club of America! Free Admission for Spectators.
URL:https://njmp.com/event/schattenbaum-showdown-thunderbolt/
CATEGORIES:Thunderbolt
END:VEVENT
BEGIN:VEVENT
DTSTART;VALUE=DATE:20260810
DTEND;VALUE=DATE:20260814
DTSTAMP:20260424T015700
CREATED:20251118T172352Z
LAST-MODIFIED:20260319T194645Z
UID:10002517-1786348800-1786640400@njmp.com
SUMMARY:California Superbike (Thunderbolt)
DESCRIPTION:Register now for your dedicated on-track coach for the day is a highly trained professional motorcycle coach. \nLearn more: https://superbikeschool.com/
URL:https://njmp.com/event/california-superbike-thunderbolt/2026-08-10/
CATEGORIES:Thunderbolt
END:VEVENT
BEGIN:VEVENT
DTSTART;VALUE=DATE:20260814
DTEND;VALUE=DATE:20260817
DTSTAMP:20260424T015700
CREATED:20260107T163157Z
LAST-MODIFIED:20260107T163157Z
UID:10002638-1786665600-1786924799@njmp.com
SUMMARY:NASA NE & NASA Mid Atlantic Summer Sizzle (Thunderbolt)
DESCRIPTION:The “NASA NE Summer Sizzle” is an annual racing event hosted by the National Auto Sport Association (NASA) Northeast. This is a crossover event with NASA Mid-Atlantic\, featuring racing\, Time Trial\, and High-Performance Driver Education (HPDE) groups.  \n**Free Admission for Spectators
URL:https://njmp.com/event/nasa-ne-nasa-mid-atlantic-summer-sizzle-thunderbolt/
CATEGORIES:Thunderbolt
ATTACH;FMTTYPE=image/jpeg:https://njmp.com/wp-content/uploads/2025/12/IMG_2781-scaled.jpg
END:VEVENT
BEGIN:VEVENT
DTSTART;VALUE=DATE:20260817
DTEND;VALUE=DATE:20260818
DTSTAMP:20260424T015700
CREATED:20260107T175929Z
LAST-MODIFIED:20260107T175929Z
UID:10002662-1786953600-1786986000@njmp.com
SUMMARY:NJMP Riders Club powered by RevZilla (Thunderbolt)
DESCRIPTION:The Riders Club membership program combines the most powerful motorcycle club management\, experienced instructors and NJMP to offer premier motorcycle-only track days\, membership benefits and the greatest environment to ride your motorcycles in a controlled and safe program. This track day is powered by our partner: RevZilla  \nLearn more: https://njmp.com/the-riders-club/
URL:https://njmp.com/event/njmp-riders-club-powered-by-revzilla-thunderbolt/2026-08-17/
CATEGORIES:Thunderbolt
ATTACH;FMTTYPE=image/png:https://njmp.com/wp-content/uploads/2025/02/Revzilla-logo.png
END:VEVENT
BEGIN:VEVENT
DTSTART;VALUE=DATE:20260820
DTEND;VALUE=DATE:20260822
DTSTAMP:20260424T015700
CREATED:20251118T180327Z
LAST-MODIFIED:20251118T180327Z
UID:10002535-1787212800-1787335200@njmp.com
SUMMARY:NJMP Drivers Club (Thunderbolt)
DESCRIPTION:Drivers Club members days are exclusive to members and to their hosted guests\, and offer progressive run groups based on drivers experience and car type. With hours of track time and a catered breakfast and lunch\, a Drivers Club member day is a driver’s dream experience. And with more than 35 of them each season\, there are a lot of miles and smiles on offer.\n\n\nLearn more: https://njmp.com/the-drivers-club/
URL:https://njmp.com/event/njmp-drivers-club-thunderbolt/2026-08-20/
CATEGORIES:Thunderbolt
ATTACH;FMTTYPE=image/jpeg:https://njmp.com/wp-content/uploads/2024/01/dclub.jpg
END:VEVENT
BEGIN:VEVENT
DTSTART;VALUE=DATE:20260822
DTEND;VALUE=DATE:20260824
DTSTAMP:20260424T015700
CREATED:20251203T181356Z
LAST-MODIFIED:20251203T181356Z
UID:10002595-1787385600-1787504400@njmp.com
SUMMARY:Hooked on Driving (Thunderbolt)
DESCRIPTION:Hooked on Driving was built for a community of like-minded drivers and a staff of talented coaches with access to some of the best racetracks in the nation. We help and encourage all drivers to become better behind the wheel and believe that time on track translates to safer drivers on public roads.
URL:https://njmp.com/event/hooked-on-driving-thunderbolt/2026-08-22/
CATEGORIES:Thunderbolt
END:VEVENT
BEGIN:VEVENT
DTSTART;VALUE=DATE:20260824
DTEND;VALUE=DATE:20260826
DTSTAMP:20260424T015700
CREATED:20260220T170700Z
LAST-MODIFIED:20260220T170700Z
UID:10002776-1787529600-1787702399@njmp.com
SUMMARY:Track Social (Thunderbolt)
DESCRIPTION:Track Social aims to host exclusive motorsport events that meet a higher standard.
URL:https://njmp.com/event/track-social-thunderbolt/
CATEGORIES:Thunderbolt
END:VEVENT
BEGIN:VEVENT
DTSTART;VALUE=DATE:20260826
DTEND;VALUE=DATE:20260827
DTSTAMP:20260424T015700
CREATED:20251118T182443Z
LAST-MODIFIED:20260402T204739Z
UID:10002607-1787731200-1787767200@njmp.com
SUMMARY:NJMP Riders Club (Thunderbolt)
DESCRIPTION:The Riders Club membership program combines the most powerful motorcycle club management\, experienced instructors and NJMP to offer premier motorcycle-only track days\, membership benefits and the greatest environment to ride your motorcycles in a controlled and safe program. \nLearn more: https://njmp.com/the-riders-club/
URL:https://njmp.com/event/njmp-riders-club-thunderbolt/2026-08-26/
CATEGORIES:Thunderbolt
ATTACH;FMTTYPE=image/png:https://njmp.com/wp-content/uploads/2024/01/Riders-Club-Logo-New-e1705519316729.png
END:VEVENT
BEGIN:VEVENT
DTSTART;VALUE=DATE:20260827
DTEND;VALUE=DATE:20260828
DTSTAMP:20260424T015700
CREATED:20251118T182738Z
LAST-MODIFIED:20251222T170501Z
UID:10002606-1787817600-1787853600@njmp.com
SUMMARY:NJMP VIP Riders Club (Thunderbolt)
DESCRIPTION:The Riders Club membership program combines the most powerful motorcycle club management\, experienced instructors and NJMP to offer premier motorcycle-only track days\, membership benefits and the greatest environment to ride your motorcycles in a controlled and safe program. \nLearn more: https://njmp.com/the-riders-club/
URL:https://njmp.com/event/njmp-vip-riders-club-thunderbolt/2026-08-27/
CATEGORIES:Thunderbolt
ATTACH;FMTTYPE=image/png:https://njmp.com/wp-content/uploads/2024/01/Riders-Club-Logo-New-e1705519316729.png
END:VEVENT
BEGIN:VEVENT
DTSTART;VALUE=DATE:20260828
DTEND;VALUE=DATE:20260831
DTSTAMP:20260424T015700
CREATED:20260107T154640Z
LAST-MODIFIED:20260107T154640Z
UID:10002609-1787875200-1788134399@njmp.com
SUMMARY:ASRA (Thunderbolt)
DESCRIPTION:The American Sportbike Racing Association has become the leaders in sportsman level motorcycle road racing\, offering unrivaled competition at nationwide venues. ASRA Racing offers a professional racing environment for beginning and seasoned riders alike – all centered around increasing the “fun factor” in a safety-conscious atmosphere. This is a rain or shine event.
URL:https://njmp.com/event/asra-thunderbolt/
CATEGORIES:Thunderbolt
ATTACH;FMTTYPE=image/jpeg:https://njmp.com/wp-content/uploads/2024/03/web-2013-CCS-1024x683-1.jpg
END:VEVENT
BEGIN:VEVENT
DTSTART;VALUE=DATE:20260831
DTEND;VALUE=DATE:20260901
DTSTAMP:20260424T015700
CREATED:20260107T162755Z
LAST-MODIFIED:20260107T162755Z
UID:10002636-1788163200-1788195600@njmp.com
SUMMARY:N2 Track Days (Thunderbolt)
DESCRIPTION:Come and see for yourself how N2 Track Days can help you ride your motorcycle the way it was intended! You may have heard about track days\, heard the myths\, heard the hype… now it’s time to ride on many world-class\, closed course racetracks with our expertly trained instructors showing you the way. Whether you’ve just purchased your first sport bike\, have been riding the streets for years\, or have experience on a race track\, track days are all about improving your skills and learning to ride your motorcycle to the fullest.
URL:https://njmp.com/event/n2-track-days-thunderbolt/2026-08-31/
CATEGORIES:Thunderbolt
END:VEVENT
BEGIN:VEVENT
DTSTART;VALUE=DATE:20260903
DTEND;VALUE=DATE:20260905
DTSTAMP:20260424T015700
CREATED:20251118T180327Z
LAST-MODIFIED:20251118T180327Z
UID:10002536-1788422400-1788544800@njmp.com
SUMMARY:NJMP Drivers Club (Thunderbolt)
DESCRIPTION:Drivers Club members days are exclusive to members and to their hosted guests\, and offer progressive run groups based on drivers experience and car type. With hours of track time and a catered breakfast and lunch\, a Drivers Club member day is a driver’s dream experience. And with more than 35 of them each season\, there are a lot of miles and smiles on offer.\n\n\nLearn more: https://njmp.com/the-drivers-club/
URL:https://njmp.com/event/njmp-drivers-club-thunderbolt/2026-09-03/
CATEGORIES:Thunderbolt
ATTACH;FMTTYPE=image/jpeg:https://njmp.com/wp-content/uploads/2024/01/dclub.jpg
END:VEVENT
BEGIN:VEVENT
DTSTART;VALUE=DATE:20260905
DTEND;VALUE=DATE:20260906
DTSTAMP:20260424T015700
CREATED:20251118T182443Z
LAST-MODIFIED:20260402T204739Z
UID:10002567-1788595200-1788631200@njmp.com
SUMMARY:NJMP Riders Club (Thunderbolt)
DESCRIPTION:The Riders Club membership program combines the most powerful motorcycle club management\, experienced instructors and NJMP to offer premier motorcycle-only track days\, membership benefits and the greatest environment to ride your motorcycles in a controlled and safe program. \nLearn more: https://njmp.com/the-riders-club/
URL:https://njmp.com/event/njmp-riders-club-thunderbolt/2026-09-05/
CATEGORIES:Thunderbolt
ATTACH;FMTTYPE=image/png:https://njmp.com/wp-content/uploads/2024/01/Riders-Club-Logo-New-e1705519316729.png
END:VEVENT
BEGIN:VEVENT
DTSTART;VALUE=DATE:20260906
DTEND;VALUE=DATE:20260907
DTSTAMP:20260424T015700
CREATED:20260107T175929Z
LAST-MODIFIED:20260107T175929Z
UID:10002663-1788681600-1788714000@njmp.com
SUMMARY:NJMP Riders Club powered by RevZilla (Thunderbolt)
DESCRIPTION:The Riders Club membership program combines the most powerful motorcycle club management\, experienced instructors and NJMP to offer premier motorcycle-only track days\, membership benefits and the greatest environment to ride your motorcycles in a controlled and safe program. This track day is powered by our partner: RevZilla  \nLearn more: https://njmp.com/the-riders-club/
URL:https://njmp.com/event/njmp-riders-club-powered-by-revzilla-thunderbolt/2026-09-06/
CATEGORIES:Thunderbolt
ATTACH;FMTTYPE=image/png:https://njmp.com/wp-content/uploads/2025/02/Revzilla-logo.png
END:VEVENT
BEGIN:VEVENT
DTSTART;VALUE=DATE:20260907
DTEND;VALUE=DATE:20260908
DTSTAMP:20260424T015700
CREATED:20260107T162032Z
LAST-MODIFIED:20260107T162032Z
UID:10002622-1788768000-1788800400@njmp.com
SUMMARY:Motorsports Enthusiasts (Thunderbolt)
DESCRIPTION:Tired of driving in a straight line? Want to find the limits of your car\, not just stoplight to stoplight\, but on the edge of traction during acceleration\, braking\, and cornering? You’ve come to the right place! We will show you the limits\, safely and in a controlled environment.
URL:https://njmp.com/event/motorsports-enthusiasts-thunderbolt/2026-09-07/
CATEGORIES:Thunderbolt
END:VEVENT
BEGIN:VEVENT
DTSTART;VALUE=DATE:20260908
DTEND;VALUE=DATE:20260910
DTSTAMP:20260424T015700
CREATED:20251118T175508Z
LAST-MODIFIED:20251118T175508Z
UID:10002527-1788854400-1788976800@njmp.com
SUMMARY:Yamaha Champions Riding School (Thunderbolt)
DESCRIPTION:Champion Habits – Data-driven techniques to elevate safety\, skill\, and joy for every rider. Learn the proven habits\, skills\, and mindset of the world’s top motorcycle riders—quantifiable\, repeatable\, and backed by real data. \nLearn more and register: https://ridelikeachampion.com/courses-page/
URL:https://njmp.com/event/yamaha-champions-riding-school-thunderbolt/2026-09-08/
CATEGORIES:Thunderbolt
END:VEVENT
BEGIN:VEVENT
DTSTART;VALUE=DATE:20260910
DTEND;VALUE=DATE:20260912
DTSTAMP:20260424T015700
CREATED:20251210T165038Z
LAST-MODIFIED:20251210T165038Z
UID:10002598-1788998400-1789171199@njmp.com
SUMMARY:Chin Track Days (Thunderbolt)
DESCRIPTION:Chin Track Days is the leading provider of non-competition track events for sports car enthusiasts. When you acquired a sports car\, did you notice that advanced driving skills were not included? Chin Track Days provides advanced driver coaching for you to acquire those skills. With Chin Track Days\, enthusiasts can enjoy their cars and receive driver education at some of the legendary road courses in the USA.
URL:https://njmp.com/event/chin-track-days-thunderbolt/
CATEGORIES:Thunderbolt
END:VEVENT
BEGIN:VEVENT
DTSTART;VALUE=DATE:20260912
DTEND;VALUE=DATE:20260914
DTSTAMP:20260424T015700
CREATED:20260107T161222Z
LAST-MODIFIED:20260107T161222Z
UID:10002612-1789200000-1789318800@njmp.com
SUMMARY:Evolve GT (Thunderbolt)
DESCRIPTION:Evolve GT has redesigned track days to provide a safe and structured riding environment for sportbike riders of all skill levels. Our coaches and instructors include many top level racers and track day riders who have the right personality\, skills and are passionate about this sport. We want you to enjoy your riding experience while building your confidence and skill levels in your riding ability.
URL:https://njmp.com/event/evolve-gt-thunderbolt/2026-09-12/
CATEGORIES:Thunderbolt
END:VEVENT
BEGIN:VEVENT
DTSTART;VALUE=DATE:20260916
DTEND;VALUE=DATE:20260917
DTSTAMP:20260424T015700
CREATED:20251118T182738Z
LAST-MODIFIED:20251222T170501Z
UID:10002575-1789545600-1789581600@njmp.com
SUMMARY:NJMP VIP Riders Club (Thunderbolt)
DESCRIPTION:The Riders Club membership program combines the most powerful motorcycle club management\, experienced instructors and NJMP to offer premier motorcycle-only track days\, membership benefits and the greatest environment to ride your motorcycles in a controlled and safe program. \nLearn more: https://njmp.com/the-riders-club/
URL:https://njmp.com/event/njmp-vip-riders-club-thunderbolt/2026-09-16/
CATEGORIES:Thunderbolt
ATTACH;FMTTYPE=image/png:https://njmp.com/wp-content/uploads/2024/01/Riders-Club-Logo-New-e1705519316729.png
END:VEVENT
BEGIN:VEVENT
DTSTART;VALUE=DATE:20260917
DTEND;VALUE=DATE:20260918
DTSTAMP:20260424T015700
CREATED:20251118T182443Z
LAST-MODIFIED:20260402T204739Z
UID:10002568-1789632000-1789668000@njmp.com
SUMMARY:NJMP Riders Club (Thunderbolt)
DESCRIPTION:The Riders Club membership program combines the most powerful motorcycle club management\, experienced instructors and NJMP to offer premier motorcycle-only track days\, membership benefits and the greatest environment to ride your motorcycles in a controlled and safe program. \nLearn more: https://njmp.com/the-riders-club/
URL:https://njmp.com/event/njmp-riders-club-thunderbolt/2026-09-17/
CATEGORIES:Thunderbolt
ATTACH;FMTTYPE=image/png:https://njmp.com/wp-content/uploads/2024/01/Riders-Club-Logo-New-e1705519316729.png
END:VEVENT
BEGIN:VEVENT
DTSTART;VALUE=DATE:20260919
DTEND;VALUE=DATE:20260920
DTSTAMP:20260424T015700
CREATED:20260127T201435Z
LAST-MODIFIED:20260127T201435Z
UID:10002766-1789776000-1789862399@njmp.com
SUMMARY:FuelFest New Jersey (Thunderbolt)
DESCRIPTION:Experience the EPIC Fast and Furious inspired phenomenon! Hosted by Cody Walker and Tyrese Gibson this massive car show features drifting\, roll racing\, vendor exhibits\, VIP experiences\, ride alongs\, and so much more! Buy your tickets NOW!
URL:https://njmp.com/event/fuelfest-new-jersey-thunderbolt/
CATEGORIES:Thunderbolt
ATTACH;FMTTYPE=image/png:https://njmp.com/wp-content/uploads/2024/12/FuelFest.png
END:VEVENT
BEGIN:VEVENT
DTSTART;VALUE=DATE:20260920
DTEND;VALUE=DATE:20260921
DTSTAMP:20260424T015700
CREATED:20251118T180327Z
LAST-MODIFIED:20251118T180327Z
UID:10002537-1789891200-1789927200@njmp.com
SUMMARY:NJMP Drivers Club (Thunderbolt)
DESCRIPTION:Drivers Club members days are exclusive to members and to their hosted guests\, and offer progressive run groups based on drivers experience and car type. With hours of track time and a catered breakfast and lunch\, a Drivers Club member day is a driver’s dream experience. And with more than 35 of them each season\, there are a lot of miles and smiles on offer.\n\n\nLearn more: https://njmp.com/the-drivers-club/
URL:https://njmp.com/event/njmp-drivers-club-thunderbolt/2026-09-20/
CATEGORIES:Thunderbolt
ATTACH;FMTTYPE=image/jpeg:https://njmp.com/wp-content/uploads/2024/01/dclub.jpg
END:VEVENT
BEGIN:VEVENT
DTSTART;VALUE=DATE:20260921
DTEND;VALUE=DATE:20260922
DTSTAMP:20260424T015700
CREATED:20251118T183044Z
LAST-MODIFIED:20251118T183044Z
UID:10002579-1789977600-1790013600@njmp.com
SUMMARY:NJMP Advanced Riders Club (Thunderbolt)
DESCRIPTION:The Riders Club membership program combines the most powerful motorcycle club management\, experienced instructors and NJMP to offer premier motorcycle-only track days\, membership benefits and the greatest environment to ride your motorcycles in a controlled and safe program. *This track day is limited to Advanced\, Intermediate\, Expert & Small Bikes Only \nLearn more: https://njmp.com/the-riders-club/
URL:https://njmp.com/event/njmp-advanced-riders-club-thunderbolt/2026-09-21/
CATEGORIES:Thunderbolt
ATTACH;FMTTYPE=image/png:https://njmp.com/wp-content/uploads/2024/01/Riders-Club-Logo-New-e1705519316729.png
END:VEVENT
BEGIN:VEVENT
DTSTART;VALUE=DATE:20260925
DTEND;VALUE=DATE:20260928
DTSTAMP:20260424T015700
CREATED:20260127T201631Z
LAST-MODIFIED:20260127T201631Z
UID:10002767-1790294400-1790553599@njmp.com
SUMMARY:MotoAmerica (Thunderbolt)
DESCRIPTION:Immerse yourself with Friday qualifying and two full weekend days of racing in close proximity to the motorcycles and racers themselves with our open race paddock. Bring the family and enjoy food\, stunt shows and Kids Zone with carnival games! Take advantage of multiple ticket options!
URL:https://njmp.com/event/motoamerica-thunderbolt/
CATEGORIES:Thunderbolt
ATTACH;FMTTYPE=image/png:https://njmp.com/wp-content/uploads/2024/12/MotoAmerica.png
END:VEVENT
BEGIN:VEVENT
DTSTART;VALUE=DATE:20261001
DTEND;VALUE=DATE:20261003
DTSTAMP:20260424T015700
CREATED:20251118T180327Z
LAST-MODIFIED:20251118T180327Z
UID:10002538-1790841600-1790964000@njmp.com
SUMMARY:NJMP Drivers Club (Thunderbolt)
DESCRIPTION:Drivers Club members days are exclusive to members and to their hosted guests\, and offer progressive run groups based on drivers experience and car type. With hours of track time and a catered breakfast and lunch\, a Drivers Club member day is a driver’s dream experience. And with more than 35 of them each season\, there are a lot of miles and smiles on offer.\n\n\nLearn more: https://njmp.com/the-drivers-club/
URL:https://njmp.com/event/njmp-drivers-club-thunderbolt/2026-10-01/
CATEGORIES:Thunderbolt
ATTACH;FMTTYPE=image/jpeg:https://njmp.com/wp-content/uploads/2024/01/dclub.jpg
END:VEVENT
END:VCALENDAR