BEGIN:VCALENDAR
VERSION:2.0
PRODID:-//New Jersey Motorsports Park - ECPv6.15.7//NONSGML v1.0//EN
CALSCALE:GREGORIAN
METHOD:PUBLISH
X-ORIGINAL-URL:https://njmp.com
X-WR-CALDESC:Events for New Jersey Motorsports Park
REFRESH-INTERVAL;VALUE=DURATION:PT1H
X-Robots-Tag:noindex
X-PUBLISHED-TTL:PT1H
BEGIN:VTIMEZONE
TZID:America/New_York
BEGIN:DAYLIGHT
TZOFFSETFROM:-0500
TZOFFSETTO:-0400
TZNAME:EDT
DTSTART:20250309T070000
END:DAYLIGHT
BEGIN:STANDARD
TZOFFSETFROM:-0400
TZOFFSETTO:-0500
TZNAME:EST
DTSTART:20251102T060000
END:STANDARD
BEGIN:DAYLIGHT
TZOFFSETFROM:-0500
TZOFFSETTO:-0400
TZNAME:EDT
DTSTART:20260308T070000
END:DAYLIGHT
BEGIN:STANDARD
TZOFFSETFROM:-0400
TZOFFSETTO:-0500
TZNAME:EST
DTSTART:20261101T060000
END:STANDARD
BEGIN:DAYLIGHT
TZOFFSETFROM:-0500
TZOFFSETTO:-0400
TZNAME:EDT
DTSTART:20270314T070000
END:DAYLIGHT
BEGIN:STANDARD
TZOFFSETFROM:-0400
TZOFFSETTO:-0500
TZNAME:EST
DTSTART:20271107T060000
END:STANDARD
END:VTIMEZONE
BEGIN:VEVENT
DTSTART;VALUE=DATE:20260912
DTEND;VALUE=DATE:20260913
DTSTAMP:20260419T233148
CREATED:20260303T195026Z
LAST-MODIFIED:20260303T195026Z
UID:10002788-1789200000-1789232400@njmp.com
SUMMARY:NJMP Track Day (Lightning)
DESCRIPTION:The Progressive Paced Laps experience is for those who want to experience the speed of New Jersey Motorsports Park\, but don’t have previous on-track experience. Drivers will take part in a full day of performance driving education including classroom instruction and (3) 15-minute sessions on track\, led by the official NJMP pace car. Each session will build on the previous\, progressively increasing in speed. Lunch will be provided.
URL:https://njmp.com/event/njmp-track-day-lightning/2026-09-12/
CATEGORIES:Lightning
ATTACH;FMTTYPE=image/png:https://njmp.com/wp-content/uploads/2024/03/Track-Days-Website.png
END:VEVENT
BEGIN:VEVENT
DTSTART;VALUE=DATE:20260916
DTEND;VALUE=DATE:20260917
DTSTAMP:20260419T233148
CREATED:20260107T164357Z
LAST-MODIFIED:20260107T164357Z
UID:10002653-1789545600-1789578000@njmp.com
SUMMARY:Track Night in America (Lightning)
DESCRIPTION:Only have a few hours to spare but want to drive on a racetrack? SCCA’s Track Night in America Driven by Tire Rack is your ticket to fun! Track Nights are laid back\, affordable and an amazing opportunity to experience racetracks in a no-pressure environment. All you need is a mechanically-sound (street!) car and a helmet… making Track Night undeniably the fastest way to get on a racetrack. Never done it before? That’s great! Because Track Night offers the Hawk Performance Novice Experience\, where you’ll learn driving etiquette to ensure you (and everyone else) get the most out of your time at the track. With Track Nights at more than 30 racetracks across the United States\, finding an event near you is a breeze.
URL:https://njmp.com/event/track-night-in-america-lightning/2026-09-16/
CATEGORIES:Lightning
END:VEVENT
BEGIN:VEVENT
DTSTART;VALUE=DATE:20260918
DTEND;VALUE=DATE:20260919
DTSTAMP:20260419T233148
CREATED:20260107T162311Z
LAST-MODIFIED:20260107T162311Z
UID:10002630-1789718400-1789750800@njmp.com
SUMMARY:Motorsports Enthusiasts (Lightning)
DESCRIPTION:Tired of driving in a straight line? Want to find the limits of your car\, not just stoplight to stoplight\, but on the edge of traction during acceleration\, braking\, and cornering? You’ve come to the right place! We will show you the limits\, safely and in a controlled environment.
URL:https://njmp.com/event/motorsports-enthusiasts-lightning/2026-09-18/
CATEGORIES:Lightning
END:VEVENT
BEGIN:VEVENT
DTSTART;VALUE=DATE:20260919
DTEND;VALUE=DATE:20260921
DTSTAMP:20260419T233148
CREATED:20251203T181538Z
LAST-MODIFIED:20251203T181538Z
UID:10002597-1789804800-1789923600@njmp.com
SUMMARY:Hooked on Driving (Lightning)
DESCRIPTION:Hooked on Driving was built for a community of like-minded drivers and a staff of talented coaches with access to some of the best racetracks in the nation. We help and encourage all drivers to become better behind the wheel and believe that time on track translates to safer drivers on public roads.
URL:https://njmp.com/event/hooked-on-driving-lightning/2026-09-19/
CATEGORIES:Lightning
END:VEVENT
BEGIN:VEVENT
DTSTART;VALUE=DATE:20260921
DTEND;VALUE=DATE:20260924
DTSTAMP:20260419T233148
CREATED:20251118T174957Z
LAST-MODIFIED:20260311T194043Z
UID:10002524-1789977600-1790186400@njmp.com
SUMMARY:Skip Barber Racing School (Lightning)
DESCRIPTION:With graduates ranging from Indianapolis 500 winners like Josef Newgarden and Alexander Rossi to NASCAR Cup Series champions like Jeff Gordon\, racing’s most iconic names trust the Skip Barber Racing School to hone their craft. \nLearn more and register: https://www.skipbarber.com/ 
URL:https://njmp.com/event/skip-barber-racing-school-lightning/2026-09-21/
CATEGORIES:Lightning
END:VEVENT
BEGIN:VEVENT
DTSTART;VALUE=DATE:20260927
DTEND;VALUE=DATE:20260928
DTSTAMP:20260419T233148
CREATED:20260107T162311Z
LAST-MODIFIED:20260107T162311Z
UID:10002631-1790496000-1790528400@njmp.com
SUMMARY:Motorsports Enthusiasts (Lightning)
DESCRIPTION:Tired of driving in a straight line? Want to find the limits of your car\, not just stoplight to stoplight\, but on the edge of traction during acceleration\, braking\, and cornering? You’ve come to the right place! We will show you the limits\, safely and in a controlled environment.
URL:https://njmp.com/event/motorsports-enthusiasts-lightning/2026-09-27/
CATEGORIES:Lightning
END:VEVENT
BEGIN:VEVENT
DTSTART;VALUE=DATE:20261007
DTEND;VALUE=DATE:20261008
DTSTAMP:20260419T233148
CREATED:20260220T172752Z
LAST-MODIFIED:20260220T172752Z
UID:10002778-1791360000-1791392400@njmp.com
SUMMARY:Velocity Driving Experience (Lightning)
DESCRIPTION:THE EAST COAST’S #1 RATED EXOTIC CAR DRIVING EXPERIENCE FOR MORE THAN A DECADE!
URL:https://njmp.com/event/velocity-driving-experience-lightning/2026-10-07/
CATEGORIES:Lightning
END:VEVENT
BEGIN:VEVENT
DTSTART;VALUE=DATE:20261010
DTEND;VALUE=DATE:20261011
DTSTAMP:20260419T233148
CREATED:20260107T161428Z
LAST-MODIFIED:20260107T161428Z
UID:10002614-1791619200-1791651600@njmp.com
SUMMARY:McLaren of Philadelphia PRIVATE (Lightning)
DESCRIPTION:This is a private event
URL:https://njmp.com/event/mclaren-of-philadelphia-private-lightning/2026-10-10/
CATEGORIES:Lightning
END:VEVENT
BEGIN:VEVENT
DTSTART;VALUE=DATE:20261016
DTEND;VALUE=DATE:20261017
DTSTAMP:20260419T233148
CREATED:20260303T195026Z
LAST-MODIFIED:20260303T195026Z
UID:10002789-1792137600-1792170000@njmp.com
SUMMARY:NJMP Track Day (Lightning)
DESCRIPTION:The Progressive Paced Laps experience is for those who want to experience the speed of New Jersey Motorsports Park\, but don’t have previous on-track experience. Drivers will take part in a full day of performance driving education including classroom instruction and (3) 15-minute sessions on track\, led by the official NJMP pace car. Each session will build on the previous\, progressively increasing in speed. Lunch will be provided.
URL:https://njmp.com/event/njmp-track-day-lightning/2026-10-16/
CATEGORIES:Lightning
ATTACH;FMTTYPE=image/png:https://njmp.com/wp-content/uploads/2024/03/Track-Days-Website.png
END:VEVENT
BEGIN:VEVENT
DTSTART;VALUE=DATE:20261017
DTEND;VALUE=DATE:20261019
DTSTAMP:20260419T233148
CREATED:20251118T183231Z
LAST-MODIFIED:20260107T180155Z
UID:10002580-1792195200-1792367999@njmp.com
SUMMARY:NJMP Riders Club (Lightning)
DESCRIPTION:The Riders Club membership program combines the most powerful motorcycle club management\, experienced instructors and NJMP to offer premier motorcycle-only track days\, membership benefits and the greatest environment to ride your motorcycles in a controlled and safe program. \nLearn more: https://njmp.com/the-riders-club/
URL:https://njmp.com/event/njmp-riders-club-lightning/
CATEGORIES:Lightning
ATTACH;FMTTYPE=image/png:https://njmp.com/wp-content/uploads/2024/01/Riders-Club-Logo-New-e1705519316729.png
END:VEVENT
BEGIN:VEVENT
DTSTART;VALUE=DATE:20261029
DTEND;VALUE=DATE:20261031
DTSTAMP:20260419T233148
CREATED:20251118T180626Z
LAST-MODIFIED:20251118T180626Z
UID:10002545-1793260800-1793379600@njmp.com
SUMMARY:NJMP Drivers Club (Lightning)
DESCRIPTION:Drivers Club members days are exclusive to members and to their hosted guests\, and offer progressive run groups based on drivers experience and car type. With hours of track time and a catered breakfast and lunch\, a Drivers Club member day is a driver’s dream experience. And with more than 35 of them each season\, there are a lot of miles and smiles on offer.\n\n\nLearn more: https://njmp.com/the-drivers-club/
URL:https://njmp.com/event/njmp-drivers-club-lightning/2026-10-29/
CATEGORIES:Lightning
ATTACH;FMTTYPE=image/jpeg:https://njmp.com/wp-content/uploads/2024/01/dclub.jpg
END:VEVENT
BEGIN:VEVENT
DTSTART;VALUE=DATE:20261106
DTEND;VALUE=DATE:20261109
DTSTAMP:20260419T233148
CREATED:20260107T163514Z
LAST-MODIFIED:20260107T163514Z
UID:10002643-1793952000-1794157200@njmp.com
SUMMARY:NASA NE (Lightning)
DESCRIPTION:No\, we won’t be sending anyone to the moon\, but the National Auto Sport Association (NASA) Northeast Region gives you and your car a safe and affordable way to get on Racetracks you’ve dreamed of driving since you were a kid. Watkins Glen International\, Lime Rock Park\, New Jersey Motorsports Park\, and Pocono Raceway\, all host NASA Northeast events. With over 45 years of running track events\, NASA NE delivers high-quality Motorsports events to automotive enthusiasts who share our passion. Whether you’re a seasoned racer or brand new driver looking to experience the thrill of going fast\, we have a place for you in NASA Northeast.
URL:https://njmp.com/event/nasa-ne-lightning/2026-11-06/
CATEGORIES:Lightning
END:VEVENT
BEGIN:VEVENT
DTSTART;VALUE=DATE:20261114
DTEND;VALUE=DATE:20261115
DTSTAMP:20260419T233148
CREATED:20251203T181047Z
LAST-MODIFIED:20260311T193443Z
UID:10002593-1794643200-1794675600@njmp.com
SUMMARY:Sports Car Driving Association (SCDA) (Lighting)
DESCRIPTION:The Sports Car Driving Association (SCDA) provides the driving enthusiast the opportunity to experience high performance driving in a safe and controlled environment. SCDA events are strictly driver educational events\, and are non-competitive. SCDA welcomes everyone from novices with no track experience\, as well as seasoned track drivers. We invite you to explore our www.SCDA1.com website to learn more about us and our events at some of the best tracks in the East Coast.
URL:https://njmp.com/event/sports-car-driving-association-scda-lighting/2026-11-14/
CATEGORIES:Lightning
END:VEVENT
END:VCALENDAR