BEGIN:VCALENDAR
VERSION:2.0
PRODID:-//New Jersey Motorsports Park - ECPv6.15.7//NONSGML v1.0//EN
CALSCALE:GREGORIAN
METHOD:PUBLISH
X-ORIGINAL-URL:https://njmp.com
X-WR-CALDESC:Events for New Jersey Motorsports Park
REFRESH-INTERVAL;VALUE=DURATION:PT1H
X-Robots-Tag:noindex
X-PUBLISHED-TTL:PT1H
BEGIN:VTIMEZONE
TZID:America/New_York
BEGIN:DAYLIGHT
TZOFFSETFROM:-0500
TZOFFSETTO:-0400
TZNAME:EDT
DTSTART:20250309T070000
END:DAYLIGHT
BEGIN:STANDARD
TZOFFSETFROM:-0400
TZOFFSETTO:-0500
TZNAME:EST
DTSTART:20251102T060000
END:STANDARD
BEGIN:DAYLIGHT
TZOFFSETFROM:-0500
TZOFFSETTO:-0400
TZNAME:EDT
DTSTART:20260308T070000
END:DAYLIGHT
BEGIN:STANDARD
TZOFFSETFROM:-0400
TZOFFSETTO:-0500
TZNAME:EST
DTSTART:20261101T060000
END:STANDARD
BEGIN:DAYLIGHT
TZOFFSETFROM:-0500
TZOFFSETTO:-0400
TZNAME:EDT
DTSTART:20270314T070000
END:DAYLIGHT
BEGIN:STANDARD
TZOFFSETFROM:-0400
TZOFFSETTO:-0500
TZNAME:EST
DTSTART:20271107T060000
END:STANDARD
END:VTIMEZONE
BEGIN:VEVENT
DTSTART;VALUE=DATE:20260606
DTEND;VALUE=DATE:20260608
DTSTAMP:20260419T203434
CREATED:20251118T180626Z
LAST-MODIFIED:20251118T180626Z
UID:10002542-1780732800-1780855200@njmp.com
SUMMARY:NJMP Drivers Club (Lightning)
DESCRIPTION:Drivers Club members days are exclusive to members and to their hosted guests\, and offer progressive run groups based on drivers experience and car type. With hours of track time and a catered breakfast and lunch\, a Drivers Club member day is a driver’s dream experience. And with more than 35 of them each season\, there are a lot of miles and smiles on offer.\n\n\nLearn more: https://njmp.com/the-drivers-club/
URL:https://njmp.com/event/njmp-drivers-club-lightning/2026-06-06/
CATEGORIES:Lightning
ATTACH;FMTTYPE=image/jpeg:https://njmp.com/wp-content/uploads/2024/01/dclub.jpg
END:VEVENT
BEGIN:VEVENT
DTSTART;VALUE=DATE:20260608
DTEND;VALUE=DATE:20260609
DTSTAMP:20260419T203434
CREATED:20251203T180630Z
LAST-MODIFIED:20251203T180630Z
UID:10002587-1780876800-1780963199@njmp.com
SUMMARY:TrackXperienZ (Lightning)
DESCRIPTION:Register Now for TrackXperienZ. TrackXperienZ is an inspired group that provide the ultimate driving experience for drivers of all levels to share the same passion.  We pride ourselves in giving our guests the ultimate driving experience where they can enjoy their vehicles in a controlled/enclosed environment inside a track circuit.
URL:https://njmp.com/event/trackxperienz-lightning/
CATEGORIES:Lightning
END:VEVENT
BEGIN:VEVENT
DTSTART;VALUE=DATE:20260610
DTEND;VALUE=DATE:20260611
DTSTAMP:20260419T203434
CREATED:20260311T152131Z
LAST-MODIFIED:20260414T185523Z
UID:10002812-1781078400-1781110800@njmp.com
SUMMARY:Private Event (Lightning)
DESCRIPTION:This is a private event.
URL:https://njmp.com/event/private-event-lightning/2026-06-10/
CATEGORIES:Lightning
END:VEVENT
BEGIN:VEVENT
DTSTART;VALUE=DATE:20260612
DTEND;VALUE=DATE:20260613
DTSTAMP:20260419T203434
CREATED:20260303T195026Z
LAST-MODIFIED:20260303T195026Z
UID:10002785-1781251200-1781283600@njmp.com
SUMMARY:NJMP Track Day (Lightning)
DESCRIPTION:The Progressive Paced Laps experience is for those who want to experience the speed of New Jersey Motorsports Park\, but don’t have previous on-track experience. Drivers will take part in a full day of performance driving education including classroom instruction and (3) 15-minute sessions on track\, led by the official NJMP pace car. Each session will build on the previous\, progressively increasing in speed. Lunch will be provided.
URL:https://njmp.com/event/njmp-track-day-lightning/2026-06-12/
CATEGORIES:Lightning
ATTACH;FMTTYPE=image/png:https://njmp.com/wp-content/uploads/2024/03/Track-Days-Website.png
END:VEVENT
BEGIN:VEVENT
DTSTART;VALUE=DATE:20260613
DTEND;VALUE=DATE:20260616
DTSTAMP:20260419T203434
CREATED:20251203T181538Z
LAST-MODIFIED:20251203T181538Z
UID:10002596-1781308800-1781567999@njmp.com
SUMMARY:Hooked on Driving (Lightning)
DESCRIPTION:Hooked on Driving was built for a community of like-minded drivers and a staff of talented coaches with access to some of the best racetracks in the nation. We help and encourage all drivers to become better behind the wheel and believe that time on track translates to safer drivers on public roads.
URL:https://njmp.com/event/hooked-on-driving-lightning/2026-06-13/
CATEGORIES:Lightning
END:VEVENT
BEGIN:VEVENT
DTSTART;VALUE=DATE:20260617
DTEND;VALUE=DATE:20260618
DTSTAMP:20260419T203434
CREATED:20260107T164357Z
LAST-MODIFIED:20260107T164357Z
UID:10002650-1781683200-1781715600@njmp.com
SUMMARY:Track Night in America (Lightning)
DESCRIPTION:Only have a few hours to spare but want to drive on a racetrack? SCCA’s Track Night in America Driven by Tire Rack is your ticket to fun! Track Nights are laid back\, affordable and an amazing opportunity to experience racetracks in a no-pressure environment. All you need is a mechanically-sound (street!) car and a helmet… making Track Night undeniably the fastest way to get on a racetrack. Never done it before? That’s great! Because Track Night offers the Hawk Performance Novice Experience\, where you’ll learn driving etiquette to ensure you (and everyone else) get the most out of your time at the track. With Track Nights at more than 30 racetracks across the United States\, finding an event near you is a breeze.
URL:https://njmp.com/event/track-night-in-america-lightning/2026-06-17/
CATEGORIES:Lightning
END:VEVENT
BEGIN:VEVENT
DTSTART;VALUE=DATE:20260619
DTEND;VALUE=DATE:20260622
DTSTAMP:20260419T203434
CREATED:20260120T181250Z
LAST-MODIFIED:20260120T181250Z
UID:10002719-1781827200-1782086399@njmp.com
SUMMARY:Riesentoter PCA (Lightning)
DESCRIPTION:The Riesentöter (RTR) Region is the twelfth largest and one of the most active regions in the country. Originally founded in 1957 as the Eastern Pennsylvania Region of Porsche Club of America\, we were the second region of PCA to be founded\, and we consisted of 15 members. Changing our name in 1973 to Riesentöter (say Ree-zen-toat-er) which loosely translated from the German means Giant Killer — a whimsical reference to the race track might of the little Porsches over the big Corvettes\, Ferraris\, and Jaguars of the day.
URL:https://njmp.com/event/riesentoter-pca-lightning/
CATEGORIES:Lightning
END:VEVENT
BEGIN:VEVENT
DTSTART;VALUE=DATE:20260622
DTEND;VALUE=DATE:20260623
DTSTAMP:20260419T203434
CREATED:20260107T162311Z
LAST-MODIFIED:20260107T162311Z
UID:10002628-1782115200-1782147600@njmp.com
SUMMARY:Motorsports Enthusiasts (Lightning)
DESCRIPTION:Tired of driving in a straight line? Want to find the limits of your car\, not just stoplight to stoplight\, but on the edge of traction during acceleration\, braking\, and cornering? You’ve come to the right place! We will show you the limits\, safely and in a controlled environment.
URL:https://njmp.com/event/motorsports-enthusiasts-lightning/2026-06-22/
CATEGORIES:Lightning
END:VEVENT
BEGIN:VEVENT
DTSTART;VALUE=DATE:20260629
DTEND;VALUE=DATE:20260630
DTSTAMP:20260419T203434
CREATED:20251203T181047Z
LAST-MODIFIED:20260311T193443Z
UID:10002592-1782720000-1782752400@njmp.com
SUMMARY:Sports Car Driving Association (SCDA) (Lighting)
DESCRIPTION:The Sports Car Driving Association (SCDA) provides the driving enthusiast the opportunity to experience high performance driving in a safe and controlled environment. SCDA events are strictly driver educational events\, and are non-competitive. SCDA welcomes everyone from novices with no track experience\, as well as seasoned track drivers. We invite you to explore our www.SCDA1.com website to learn more about us and our events at some of the best tracks in the East Coast.
URL:https://njmp.com/event/sports-car-driving-association-scda-lighting/2026-06-29/
CATEGORIES:Lightning
END:VEVENT
BEGIN:VEVENT
DTSTART;VALUE=DATE:20260710
DTEND;VALUE=DATE:20260713
DTSTAMP:20260419T203434
CREATED:20251118T170850Z
LAST-MODIFIED:20251118T170850Z
UID:10002513-1783641600-1783900799@njmp.com
SUMMARY:Vintage Racer Group (Lightning)
DESCRIPTION:Register for VRG! VRG promotes the active use of vintage and historic sports and racing cars\, in a format that emphasizes safety and enjoyment for all participants. Specifically\, they organize\, sanction\, and conduct vintage races for a broad range of cars\, in the northeastern United States. \nLearn more: https://vrgonline.org/ 
URL:https://njmp.com/event/vintage-racer-group-lightning/
CATEGORIES:Lightning
END:VEVENT
BEGIN:VEVENT
DTSTART;VALUE=DATE:20260714
DTEND;VALUE=DATE:20260717
DTSTAMP:20260419T203434
CREATED:20251118T174957Z
LAST-MODIFIED:20260311T194043Z
UID:10002800-1784016000-1784221200@njmp.com
SUMMARY:Skip Barber Racing School (Lightning)
DESCRIPTION:With graduates ranging from Indianapolis 500 winners like Josef Newgarden and Alexander Rossi to NASCAR Cup Series champions like Jeff Gordon\, racing’s most iconic names trust the Skip Barber Racing School to hone their craft. \nLearn more and register: https://www.skipbarber.com/ 
URL:https://njmp.com/event/skip-barber-racing-school-lightning/2026-07-14/
CATEGORIES:Lightning
END:VEVENT
BEGIN:VEVENT
DTSTART;VALUE=DATE:20260717
DTEND;VALUE=DATE:20260718
DTSTAMP:20260419T203434
CREATED:20251210T170713Z
LAST-MODIFIED:20251210T170713Z
UID:10002604-1784246400-1784332799@njmp.com
SUMMARY:Schattenbaum PCA (Lightning)
DESCRIPTION:Register for a track day with Schattenbaum Region Porsche Club of America.
URL:https://njmp.com/event/schattenbaum-pca-lightning/
CATEGORIES:Lightning
END:VEVENT
BEGIN:VEVENT
DTSTART;VALUE=DATE:20260718
DTEND;VALUE=DATE:20260719
DTSTAMP:20260419T203434
CREATED:20260120T180748Z
LAST-MODIFIED:20260120T180748Z
UID:10002718-1784332800-1784419199@njmp.com
SUMMARY:Eastern Motor Racing Association (EMRA) (Lightning)
DESCRIPTION:Over 50 years ago\, seven local car clubs joined together with the vision of building a better place to race in the Northeast. Since then\, EMRA has grown and developed to become one of the premier sanctioning bodies on the east coast. Our goal is to provide top competition without sacrificing any of the enjoyment – We race hard and always have FUN.
URL:https://njmp.com/event/eastern-motor-racing-association-emra-lightning/
CATEGORIES:Lightning
END:VEVENT
BEGIN:VEVENT
DTSTART;VALUE=DATE:20260719
DTEND;VALUE=DATE:20260720
DTSTAMP:20260419T203434
CREATED:20251118T173107Z
LAST-MODIFIED:20260311T193703Z
UID:10002521-1784448000-1784480400@njmp.com
SUMMARY:North East Track Club (NETC) (Lightning)
DESCRIPTION:Register your car for NETC! \nLearn more: https://www.motorsportreg.com/orgs/north-east-track-club-netc 
URL:https://njmp.com/event/north-east-track-club-netc-lightning/2026-07-19/
CATEGORIES:Lightning
END:VEVENT
BEGIN:VEVENT
DTSTART;VALUE=DATE:20260722
DTEND;VALUE=DATE:20260723
DTSTAMP:20260419T203434
CREATED:20260107T164357Z
LAST-MODIFIED:20260107T164357Z
UID:10002651-1784707200-1784739600@njmp.com
SUMMARY:Track Night in America (Lightning)
DESCRIPTION:Only have a few hours to spare but want to drive on a racetrack? SCCA’s Track Night in America Driven by Tire Rack is your ticket to fun! Track Nights are laid back\, affordable and an amazing opportunity to experience racetracks in a no-pressure environment. All you need is a mechanically-sound (street!) car and a helmet… making Track Night undeniably the fastest way to get on a racetrack. Never done it before? That’s great! Because Track Night offers the Hawk Performance Novice Experience\, where you’ll learn driving etiquette to ensure you (and everyone else) get the most out of your time at the track. With Track Nights at more than 30 racetracks across the United States\, finding an event near you is a breeze.
URL:https://njmp.com/event/track-night-in-america-lightning/2026-07-22/
CATEGORIES:Lightning
END:VEVENT
BEGIN:VEVENT
DTSTART;VALUE=DATE:20260724
DTEND;VALUE=DATE:20260725
DTSTAMP:20260419T203434
CREATED:20260303T195026Z
LAST-MODIFIED:20260303T195026Z
UID:10002786-1784880000-1784912400@njmp.com
SUMMARY:NJMP Track Day (Lightning)
DESCRIPTION:The Progressive Paced Laps experience is for those who want to experience the speed of New Jersey Motorsports Park\, but don’t have previous on-track experience. Drivers will take part in a full day of performance driving education including classroom instruction and (3) 15-minute sessions on track\, led by the official NJMP pace car. Each session will build on the previous\, progressively increasing in speed. Lunch will be provided.
URL:https://njmp.com/event/njmp-track-day-lightning/2026-07-24/
CATEGORIES:Lightning
ATTACH;FMTTYPE=image/png:https://njmp.com/wp-content/uploads/2024/03/Track-Days-Website.png
END:VEVENT
BEGIN:VEVENT
DTSTART;VALUE=DATE:20260725
DTEND;VALUE=DATE:20260727
DTSTAMP:20260419T203434
CREATED:20260107T161715Z
LAST-MODIFIED:20260107T161715Z
UID:10002616-1784937600-1785110399@njmp.com
SUMMARY:Metro NY PCA (Lightning)
DESCRIPTION:Today\, Metro offers its’ member many activities to allow them to enjoy their favorite marque more fully. This includes: Autocross\, Club Racing\, Concours\, Driver Education\, Rally\, Sim Racing\, Social Gatherings\, Technical Meetings\, Treks\, and a whole lot more.
URL:https://njmp.com/event/metro-ny-pca-lightning/
CATEGORIES:Lightning
END:VEVENT
BEGIN:VEVENT
DTSTART;VALUE=DATE:20260729
DTEND;VALUE=DATE:20260730
DTSTAMP:20260419T203434
CREATED:20260220T172752Z
LAST-MODIFIED:20260220T172752Z
UID:10002777-1785283200-1785369599@njmp.com
SUMMARY:Velocity Driving Experience (Lightning)
DESCRIPTION:THE EAST COAST’S #1 RATED EXOTIC CAR DRIVING EXPERIENCE FOR MORE THAN A DECADE!
URL:https://njmp.com/event/velocity-driving-experience-lightning/2026-07-29/
CATEGORIES:Lightning
END:VEVENT
BEGIN:VEVENT
DTSTART;VALUE=DATE:20260801
DTEND;VALUE=DATE:20260803
DTSTAMP:20260419T203434
CREATED:20260107T160922Z
LAST-MODIFIED:20260107T160922Z
UID:10002610-1785542400-1785715199@njmp.com
SUMMARY:Del Val BMW CCA (Lightning)
DESCRIPTION:It doesn’t matter to us what model BMW you drive or even whether you drive a BMW at all! Del Val’s mission is to promote camaraderie among like-minded enthusiasts by providing a good balance of driving and social events\, benefits\, and friendly members who volunteer their time and energy to help each other out to enhance the BMW driving and ownership experience.
URL:https://njmp.com/event/del-val-bmw-cca-lightning/
CATEGORIES:Lightning
END:VEVENT
BEGIN:VEVENT
DTSTART;VALUE=DATE:20260803
DTEND;VALUE=DATE:20260804
DTSTAMP:20260419T203434
CREATED:20260107T162311Z
LAST-MODIFIED:20260107T162311Z
UID:10002629-1785744000-1785776400@njmp.com
SUMMARY:Motorsports Enthusiasts (Lightning)
DESCRIPTION:Tired of driving in a straight line? Want to find the limits of your car\, not just stoplight to stoplight\, but on the edge of traction during acceleration\, braking\, and cornering? You’ve come to the right place! We will show you the limits\, safely and in a controlled environment.
URL:https://njmp.com/event/motorsports-enthusiasts-lightning/2026-08-03/
CATEGORIES:Lightning
END:VEVENT
BEGIN:VEVENT
DTSTART;VALUE=DATE:20260808
DTEND;VALUE=DATE:20260810
DTSTAMP:20260419T203434
CREATED:20251118T180626Z
LAST-MODIFIED:20251118T180626Z
UID:10002543-1786176000-1786298400@njmp.com
SUMMARY:NJMP Drivers Club (Lightning)
DESCRIPTION:Drivers Club members days are exclusive to members and to their hosted guests\, and offer progressive run groups based on drivers experience and car type. With hours of track time and a catered breakfast and lunch\, a Drivers Club member day is a driver’s dream experience. And with more than 35 of them each season\, there are a lot of miles and smiles on offer.\n\n\nLearn more: https://njmp.com/the-drivers-club/
URL:https://njmp.com/event/njmp-drivers-club-lightning/2026-08-08/
CATEGORIES:Lightning
ATTACH;FMTTYPE=image/jpeg:https://njmp.com/wp-content/uploads/2024/01/dclub.jpg
END:VEVENT
BEGIN:VEVENT
DTSTART;VALUE=DATE:20260813
DTEND;VALUE=DATE:20260814
DTSTAMP:20260419T203434
CREATED:20251118T181740Z
LAST-MODIFIED:20260311T193244Z
UID:10002553-1786608000-1786644000@njmp.com
SUMMARY:NJMP Advanced Open Track Day (Lightning)
DESCRIPTION:If you have ever wanted something different than the normal 20-30 minutes sessions by run group format\, a Ciocca Dealership Advanced Driver Open Track Day may be for you. \nLearn more: https://njmp.com/njmp-advanced-track-days/
URL:https://njmp.com/event/njmp-advanced-open-track-day-lightning/2026-08-13/
CATEGORIES:Lightning
ATTACH;FMTTYPE=image/jpeg:https://njmp.com/wp-content/uploads/2024/01/NJMPDC-White-Group-08-06-2022-33888-ZF-7651-46408-1-349.jpg
END:VEVENT
BEGIN:VEVENT
DTSTART;VALUE=DATE:20260819
DTEND;VALUE=DATE:20260820
DTSTAMP:20260419T203434
CREATED:20260107T164357Z
LAST-MODIFIED:20260107T164357Z
UID:10002652-1787126400-1787158800@njmp.com
SUMMARY:Track Night in America (Lightning)
DESCRIPTION:Only have a few hours to spare but want to drive on a racetrack? SCCA’s Track Night in America Driven by Tire Rack is your ticket to fun! Track Nights are laid back\, affordable and an amazing opportunity to experience racetracks in a no-pressure environment. All you need is a mechanically-sound (street!) car and a helmet… making Track Night undeniably the fastest way to get on a racetrack. Never done it before? That’s great! Because Track Night offers the Hawk Performance Novice Experience\, where you’ll learn driving etiquette to ensure you (and everyone else) get the most out of your time at the track. With Track Nights at more than 30 racetracks across the United States\, finding an event near you is a breeze.
URL:https://njmp.com/event/track-night-in-america-lightning/2026-08-19/
CATEGORIES:Lightning
END:VEVENT
BEGIN:VEVENT
DTSTART;VALUE=DATE:20260821
DTEND;VALUE=DATE:20260822
DTSTAMP:20260419T203434
CREATED:20260303T195026Z
LAST-MODIFIED:20260303T195026Z
UID:10002787-1787299200-1787331600@njmp.com
SUMMARY:NJMP Track Day (Lightning)
DESCRIPTION:The Progressive Paced Laps experience is for those who want to experience the speed of New Jersey Motorsports Park\, but don’t have previous on-track experience. Drivers will take part in a full day of performance driving education including classroom instruction and (3) 15-minute sessions on track\, led by the official NJMP pace car. Each session will build on the previous\, progressively increasing in speed. Lunch will be provided.
URL:https://njmp.com/event/njmp-track-day-lightning/2026-08-21/
CATEGORIES:Lightning
ATTACH;FMTTYPE=image/png:https://njmp.com/wp-content/uploads/2024/03/Track-Days-Website.png
END:VEVENT
BEGIN:VEVENT
DTSTART;VALUE=DATE:20260827
DTEND;VALUE=DATE:20260831
DTSTAMP:20260419T203434
CREATED:20260127T195559Z
LAST-MODIFIED:20260127T195559Z
UID:10002758-1787817600-1788109200@njmp.com
SUMMARY:Xtreme Xperience (Lightning)
DESCRIPTION:It’s YOUR turn to get behind the wheel of a fleet of exotic cars at NJMP. Book your driving or riding Xperience on a world-class racetrack in supercars like Ferraris\, Lamborghinis\, Porsches and more! No experience necessary. Our Professional Instructors will teach you how to drive the racing line\, as you cross ‘Drive a Supercar’ off of your bucket list! Ride-alongs\, driving experiences\, and group packages available.
URL:https://njmp.com/event/xtreme-xperience-lightning/2026-08-27/
CATEGORIES:Lightning
END:VEVENT
BEGIN:VEVENT
DTSTART;VALUE=DATE:20260910
DTEND;VALUE=DATE:20260911
DTSTAMP:20260419T203434
CREATED:20251118T181740Z
LAST-MODIFIED:20260311T193244Z
UID:10002554-1789027200-1789063200@njmp.com
SUMMARY:NJMP Advanced Open Track Day (Lightning)
DESCRIPTION:If you have ever wanted something different than the normal 20-30 minutes sessions by run group format\, a Ciocca Dealership Advanced Driver Open Track Day may be for you. \nLearn more: https://njmp.com/njmp-advanced-track-days/
URL:https://njmp.com/event/njmp-advanced-open-track-day-lightning/2026-09-10/
CATEGORIES:Lightning
ATTACH;FMTTYPE=image/jpeg:https://njmp.com/wp-content/uploads/2024/01/NJMPDC-White-Group-08-06-2022-33888-ZF-7651-46408-1-349.jpg
END:VEVENT
BEGIN:VEVENT
DTSTART;VALUE=DATE:20260911
DTEND;VALUE=DATE:20260912
DTSTAMP:20260419T203434
CREATED:20251118T180626Z
LAST-MODIFIED:20251118T180626Z
UID:10002544-1789113600-1789149600@njmp.com
SUMMARY:NJMP Drivers Club (Lightning)
DESCRIPTION:Drivers Club members days are exclusive to members and to their hosted guests\, and offer progressive run groups based on drivers experience and car type. With hours of track time and a catered breakfast and lunch\, a Drivers Club member day is a driver’s dream experience. And with more than 35 of them each season\, there are a lot of miles and smiles on offer.\n\n\nLearn more: https://njmp.com/the-drivers-club/
URL:https://njmp.com/event/njmp-drivers-club-lightning/2026-09-11/
CATEGORIES:Lightning
ATTACH;FMTTYPE=image/jpeg:https://njmp.com/wp-content/uploads/2024/01/dclub.jpg
END:VEVENT
BEGIN:VEVENT
DTSTART;VALUE=DATE:20260912
DTEND;VALUE=DATE:20260913
DTSTAMP:20260419T203434
CREATED:20260303T195026Z
LAST-MODIFIED:20260303T195026Z
UID:10002788-1789200000-1789232400@njmp.com
SUMMARY:NJMP Track Day (Lightning)
DESCRIPTION:The Progressive Paced Laps experience is for those who want to experience the speed of New Jersey Motorsports Park\, but don’t have previous on-track experience. Drivers will take part in a full day of performance driving education including classroom instruction and (3) 15-minute sessions on track\, led by the official NJMP pace car. Each session will build on the previous\, progressively increasing in speed. Lunch will be provided.
URL:https://njmp.com/event/njmp-track-day-lightning/2026-09-12/
CATEGORIES:Lightning
ATTACH;FMTTYPE=image/png:https://njmp.com/wp-content/uploads/2024/03/Track-Days-Website.png
END:VEVENT
BEGIN:VEVENT
DTSTART;VALUE=DATE:20260916
DTEND;VALUE=DATE:20260917
DTSTAMP:20260419T203434
CREATED:20260107T164357Z
LAST-MODIFIED:20260107T164357Z
UID:10002653-1789545600-1789578000@njmp.com
SUMMARY:Track Night in America (Lightning)
DESCRIPTION:Only have a few hours to spare but want to drive on a racetrack? SCCA’s Track Night in America Driven by Tire Rack is your ticket to fun! Track Nights are laid back\, affordable and an amazing opportunity to experience racetracks in a no-pressure environment. All you need is a mechanically-sound (street!) car and a helmet… making Track Night undeniably the fastest way to get on a racetrack. Never done it before? That’s great! Because Track Night offers the Hawk Performance Novice Experience\, where you’ll learn driving etiquette to ensure you (and everyone else) get the most out of your time at the track. With Track Nights at more than 30 racetracks across the United States\, finding an event near you is a breeze.
URL:https://njmp.com/event/track-night-in-america-lightning/2026-09-16/
CATEGORIES:Lightning
END:VEVENT
BEGIN:VEVENT
DTSTART;VALUE=DATE:20260918
DTEND;VALUE=DATE:20260919
DTSTAMP:20260419T203434
CREATED:20260107T162311Z
LAST-MODIFIED:20260107T162311Z
UID:10002630-1789718400-1789750800@njmp.com
SUMMARY:Motorsports Enthusiasts (Lightning)
DESCRIPTION:Tired of driving in a straight line? Want to find the limits of your car\, not just stoplight to stoplight\, but on the edge of traction during acceleration\, braking\, and cornering? You’ve come to the right place! We will show you the limits\, safely and in a controlled environment.
URL:https://njmp.com/event/motorsports-enthusiasts-lightning/2026-09-18/
CATEGORIES:Lightning
END:VEVENT
END:VCALENDAR