BEGIN:VCALENDAR
VERSION:2.0
PRODID:-//New Jersey Motorsports Park - ECPv6.15.7//NONSGML v1.0//EN
CALSCALE:GREGORIAN
METHOD:PUBLISH
X-ORIGINAL-URL:https://njmp.com
X-WR-CALDESC:Events for New Jersey Motorsports Park
REFRESH-INTERVAL;VALUE=DURATION:PT1H
X-Robots-Tag:noindex
X-PUBLISHED-TTL:PT1H
BEGIN:VTIMEZONE
TZID:America/New_York
BEGIN:DAYLIGHT
TZOFFSETFROM:-0500
TZOFFSETTO:-0400
TZNAME:EDT
DTSTART:20250309T070000
END:DAYLIGHT
BEGIN:STANDARD
TZOFFSETFROM:-0400
TZOFFSETTO:-0500
TZNAME:EST
DTSTART:20251102T060000
END:STANDARD
BEGIN:DAYLIGHT
TZOFFSETFROM:-0500
TZOFFSETTO:-0400
TZNAME:EDT
DTSTART:20260308T070000
END:DAYLIGHT
BEGIN:STANDARD
TZOFFSETFROM:-0400
TZOFFSETTO:-0500
TZNAME:EST
DTSTART:20261101T060000
END:STANDARD
BEGIN:DAYLIGHT
TZOFFSETFROM:-0500
TZOFFSETTO:-0400
TZNAME:EDT
DTSTART:20270314T070000
END:DAYLIGHT
BEGIN:STANDARD
TZOFFSETFROM:-0400
TZOFFSETTO:-0500
TZNAME:EST
DTSTART:20271107T060000
END:STANDARD
END:VTIMEZONE
BEGIN:VEVENT
DTSTART;VALUE=DATE:20260425
DTEND;VALUE=DATE:20260426
DTSTAMP:20260424T153522
CREATED:20260303T195026Z
LAST-MODIFIED:20260303T195026Z
UID:10002783-1777104000-1777136400@njmp.com
SUMMARY:NJMP Track Day (Lightning)
DESCRIPTION:The Progressive Paced Laps experience is for those who want to experience the speed of New Jersey Motorsports Park\, but don’t have previous on-track experience. Drivers will take part in a full day of performance driving education including classroom instruction and (3) 15-minute sessions on track\, led by the official NJMP pace car. Each session will build on the previous\, progressively increasing in speed. Lunch will be provided.
URL:https://njmp.com/event/njmp-track-day-lightning/2026-04-25/
CATEGORIES:Lightning
ATTACH;FMTTYPE=image/png:https://njmp.com/wp-content/uploads/2024/03/Track-Days-Website.png
END:VEVENT
END:VCALENDAR