BEGIN:VCALENDAR
VERSION:2.0
PRODID:-//New Jersey Motorsports Park - ECPv6.15.7//NONSGML v1.0//EN
CALSCALE:GREGORIAN
METHOD:PUBLISH
X-WR-CALNAME:New Jersey Motorsports Park
X-ORIGINAL-URL:https://njmp.com
X-WR-CALDESC:Events for New Jersey Motorsports Park
REFRESH-INTERVAL;VALUE=DURATION:PT1H
X-Robots-Tag:noindex
X-PUBLISHED-TTL:PT1H
BEGIN:VTIMEZONE
TZID:America/New_York
BEGIN:DAYLIGHT
TZOFFSETFROM:-0500
TZOFFSETTO:-0400
TZNAME:EDT
DTSTART:20250309T070000
END:DAYLIGHT
BEGIN:STANDARD
TZOFFSETFROM:-0400
TZOFFSETTO:-0500
TZNAME:EST
DTSTART:20251102T060000
END:STANDARD
BEGIN:DAYLIGHT
TZOFFSETFROM:-0500
TZOFFSETTO:-0400
TZNAME:EDT
DTSTART:20260308T070000
END:DAYLIGHT
BEGIN:STANDARD
TZOFFSETFROM:-0400
TZOFFSETTO:-0500
TZNAME:EST
DTSTART:20261101T060000
END:STANDARD
BEGIN:DAYLIGHT
TZOFFSETFROM:-0500
TZOFFSETTO:-0400
TZNAME:EDT
DTSTART:20270314T070000
END:DAYLIGHT
BEGIN:STANDARD
TZOFFSETFROM:-0400
TZOFFSETTO:-0500
TZNAME:EST
DTSTART:20271107T060000
END:STANDARD
END:VTIMEZONE
BEGIN:VEVENT
DTSTART;VALUE=DATE:20260422
DTEND;VALUE=DATE:20260423
DTSTAMP:20260423T234128
CREATED:20260107T164357Z
LAST-MODIFIED:20260107T164357Z
UID:10002649-1776816000-1776902399@njmp.com
SUMMARY:Track Night in America (Lightning)
DESCRIPTION:Only have a few hours to spare but want to drive on a racetrack? SCCA’s Track Night in America Driven by Tire Rack is your ticket to fun! Track Nights are laid back\, affordable and an amazing opportunity to experience racetracks in a no-pressure environment. All you need is a mechanically-sound (street!) car and a helmet… making Track Night undeniably the fastest way to get on a racetrack. Never done it before? That’s great! Because Track Night offers the Hawk Performance Novice Experience\, where you’ll learn driving etiquette to ensure you (and everyone else) get the most out of your time at the track. With Track Nights at more than 30 racetracks across the United States\, finding an event near you is a breeze.
URL:https://njmp.com/event/track-night-in-america-lightning/2026-04-22/
CATEGORIES:Lightning
END:VEVENT
END:VCALENDAR