BEGIN:VCALENDAR
VERSION:2.0
PRODID:-//New Jersey Motorsports Park - ECPv6.15.7//NONSGML v1.0//EN
CALSCALE:GREGORIAN
METHOD:PUBLISH
X-ORIGINAL-URL:https://njmp.com
X-WR-CALDESC:Events for New Jersey Motorsports Park
REFRESH-INTERVAL;VALUE=DURATION:PT1H
X-Robots-Tag:noindex
X-PUBLISHED-TTL:PT1H
BEGIN:VTIMEZONE
TZID:America/New_York
BEGIN:DAYLIGHT
TZOFFSETFROM:-0500
TZOFFSETTO:-0400
TZNAME:EDT
DTSTART:20250309T070000
END:DAYLIGHT
BEGIN:STANDARD
TZOFFSETFROM:-0400
TZOFFSETTO:-0500
TZNAME:EST
DTSTART:20251102T060000
END:STANDARD
BEGIN:DAYLIGHT
TZOFFSETFROM:-0500
TZOFFSETTO:-0400
TZNAME:EDT
DTSTART:20260308T070000
END:DAYLIGHT
BEGIN:STANDARD
TZOFFSETFROM:-0400
TZOFFSETTO:-0500
TZNAME:EST
DTSTART:20261101T060000
END:STANDARD
BEGIN:DAYLIGHT
TZOFFSETFROM:-0500
TZOFFSETTO:-0400
TZNAME:EDT
DTSTART:20270314T070000
END:DAYLIGHT
BEGIN:STANDARD
TZOFFSETFROM:-0400
TZOFFSETTO:-0500
TZNAME:EST
DTSTART:20271107T060000
END:STANDARD
END:VTIMEZONE
BEGIN:VEVENT
DTSTART;VALUE=DATE:20260424
DTEND;VALUE=DATE:20260425
DTSTAMP:20260421T195031
CREATED:20260112T164231Z
LAST-MODIFIED:20260112T164231Z
UID:10002671-1776988800-1777075199@njmp.com
SUMMARY:NJMP Rental Kart League 2
DESCRIPTION:NJMP hosts Arrive & Drive League Racing in our rental fleet several times a year on Friday nights! Our Leagues run on 5 consecutive Fridays(weather permitting) and consist of 20 total races\, half of which earn you points based on finishing position. These points are calculated throughout the season to determine the Winner. Drivers are held to universal standards of on track etiquette\, where respect and sportsmanship amongst competitors is paramount. For more details\, or to signup\, please visit our registration portal at MSR.com. If you have any questions about our group experiences please call 856-327-7223 between the hours of 9am – 5pm Monday – Friday.
URL:https://njmp.com/event/njmp-rental-kart-league-2/2026-04-24/
CATEGORIES:Avenger
END:VEVENT
BEGIN:VEVENT
DTSTART;VALUE=DATE:20260425
DTEND;VALUE=DATE:20260427
DTSTAMP:20260421T195031
CREATED:20260114T151051Z
LAST-MODIFIED:20260114T151051Z
UID:10002696-1777075200-1777247999@njmp.com
SUMMARY:Northeast Karting Challenge (Avenger)
DESCRIPTION:Northeast Karting Challenge is a professional go-karting race series designed for multiple age groups. \n**Free Admission for Spectators
URL:https://njmp.com/event/northeast-karting-challenge-avenger/2026-04-25/
CATEGORIES:Avenger
ATTACH;FMTTYPE=image/jpeg:https://njmp.com/wp-content/uploads/2025/12/IMG_1800-scaled.jpg
END:VEVENT
END:VCALENDAR