BEGIN:VCALENDAR
VERSION:2.0
PRODID:-//New Jersey Motorsports Park - ECPv6.15.7//NONSGML v1.0//EN
CALSCALE:GREGORIAN
METHOD:PUBLISH
X-ORIGINAL-URL:https://njmp.com
X-WR-CALDESC:Events for New Jersey Motorsports Park
REFRESH-INTERVAL;VALUE=DURATION:PT1H
X-Robots-Tag:noindex
X-PUBLISHED-TTL:PT1H
BEGIN:VTIMEZONE
TZID:America/New_York
BEGIN:DAYLIGHT
TZOFFSETFROM:-0500
TZOFFSETTO:-0400
TZNAME:EDT
DTSTART:20250309T070000
END:DAYLIGHT
BEGIN:STANDARD
TZOFFSETFROM:-0400
TZOFFSETTO:-0500
TZNAME:EST
DTSTART:20251102T060000
END:STANDARD
BEGIN:DAYLIGHT
TZOFFSETFROM:-0500
TZOFFSETTO:-0400
TZNAME:EDT
DTSTART:20260308T070000
END:DAYLIGHT
BEGIN:STANDARD
TZOFFSETFROM:-0400
TZOFFSETTO:-0500
TZNAME:EST
DTSTART:20261101T060000
END:STANDARD
BEGIN:DAYLIGHT
TZOFFSETFROM:-0500
TZOFFSETTO:-0400
TZNAME:EDT
DTSTART:20270314T070000
END:DAYLIGHT
BEGIN:STANDARD
TZOFFSETFROM:-0400
TZOFFSETTO:-0500
TZNAME:EST
DTSTART:20271107T060000
END:STANDARD
END:VTIMEZONE
BEGIN:VEVENT
DTSTART;VALUE=DATE:20260327
DTEND;VALUE=DATE:20260328
DTSTAMP:20260421T222646
CREATED:20260112T163817Z
LAST-MODIFIED:20260112T163817Z
UID:10002668-1774598400-1774630800@njmp.com
SUMMARY:NJMP Rental Kart League 1
DESCRIPTION:NJMP hosts Arrive & Drive League Racing in our rental fleet several times a year on Friday nights! Our Leagues run on 5 consecutive Fridays(weather permitting) and consist of 20 total races\, half of which earn you points based on finishing position. These points are calculated throughout the season to determine the Winner. Drivers are held to universal standards of on track etiquette\, where respect and sportsmanship amongst competitors is paramount. For more details\, or to signup\, please visit our registration portal at MSR.com. If you have any questions about our group experiences please call 856-327-7223 between the hours of 9am – 5pm Monday – Friday.
URL:https://njmp.com/event/njmp-rental-kart-league-1/2026-03-27/
CATEGORIES:Avenger
END:VEVENT
BEGIN:VEVENT
DTSTART;VALUE=DATE:20260328
DTEND;VALUE=DATE:20260329
DTSTAMP:20260421T222646
CREATED:20260122T191805Z
LAST-MODIFIED:20260122T191805Z
UID:10002729-1774656000-1774742399@njmp.com
SUMMARY:NJMP Endurance Karting - 3 Hour Race (Avenger)
DESCRIPTION:Grab a few friends and team up for an endurance race at Tempest Raceway! Teams will compete for the most laps within the race timeframe. Karting Endurance Races are open to all drivers and teams\, regardless of experience.
URL:https://njmp.com/event/njmp-endurance-karting-3-hour-race-avenger/2026-03-28/
CATEGORIES:Avenger
END:VEVENT
END:VCALENDAR