BEGIN:VCALENDAR
VERSION:2.0
PRODID:-//New Jersey Motorsports Park - ECPv6.15.7//NONSGML v1.0//EN
CALSCALE:GREGORIAN
METHOD:PUBLISH
X-WR-CALNAME:New Jersey Motorsports Park
X-ORIGINAL-URL:https://njmp.com
X-WR-CALDESC:Events for New Jersey Motorsports Park
REFRESH-INTERVAL;VALUE=DURATION:PT1H
X-Robots-Tag:noindex
X-PUBLISHED-TTL:PT1H
BEGIN:VTIMEZONE
TZID:America/New_York
BEGIN:DAYLIGHT
TZOFFSETFROM:-0500
TZOFFSETTO:-0400
TZNAME:EDT
DTSTART:20250309T070000
END:DAYLIGHT
BEGIN:STANDARD
TZOFFSETFROM:-0400
TZOFFSETTO:-0500
TZNAME:EST
DTSTART:20251102T060000
END:STANDARD
BEGIN:DAYLIGHT
TZOFFSETFROM:-0500
TZOFFSETTO:-0400
TZNAME:EDT
DTSTART:20260308T070000
END:DAYLIGHT
BEGIN:STANDARD
TZOFFSETFROM:-0400
TZOFFSETTO:-0500
TZNAME:EST
DTSTART:20261101T060000
END:STANDARD
BEGIN:DAYLIGHT
TZOFFSETFROM:-0500
TZOFFSETTO:-0400
TZNAME:EDT
DTSTART:20270314T070000
END:DAYLIGHT
BEGIN:STANDARD
TZOFFSETFROM:-0400
TZOFFSETTO:-0500
TZNAME:EST
DTSTART:20271107T060000
END:STANDARD
END:VTIMEZONE
BEGIN:VEVENT
DTSTART;VALUE=DATE:20260418
DTEND;VALUE=DATE:20260420
DTSTAMP:20260423T041325
CREATED:20251203T181356Z
LAST-MODIFIED:20251203T181356Z
UID:10002594-1776470400-1776643199@njmp.com
SUMMARY:Hooked on Driving (Thunderbolt)
DESCRIPTION:Hooked on Driving was built for a community of like-minded drivers and a staff of talented coaches with access to some of the best racetracks in the nation. We help and encourage all drivers to become better behind the wheel and believe that time on track translates to safer drivers on public roads.
URL:https://njmp.com/event/hooked-on-driving-thunderbolt/2026-04-18/
CATEGORIES:Thunderbolt
END:VEVENT
BEGIN:VEVENT
DTSTART;VALUE=DATE:20260418
DTEND;VALUE=DATE:20260420
DTSTAMP:20260423T041326
CREATED:20260324T140347Z
LAST-MODIFIED:20260324T140347Z
UID:10002802-1776470400-1776643199@njmp.com
SUMMARY:NNJR PCA (Lightning)
DESCRIPTION:In six decades we’ve grown to nearly 3\,500 total members\, all sharing the same passion. Members enjoy participating in a wide variety of events throughout the year.  As an NNJR-PCA member\, you have access to all PCA National and Zone #1 resources and events.
URL:https://njmp.com/event/nnjr-pca-lightning/
CATEGORIES:Lightning
END:VEVENT
BEGIN:VEVENT
DTSTART;VALUE=DATE:20260419
DTEND;VALUE=DATE:20260420
DTSTAMP:20260423T041326
CREATED:20260127T172829Z
LAST-MODIFIED:20260127T172829Z
UID:10002744-1776585600-1776618000@njmp.com
SUMMARY:NJMP Comp Practice (Liberator)
DESCRIPTION:Own a kart or bike and want to get in some extra practice or track time? Register for an NJMP Comp Practice. All kart and bike owners will be required to obtain NJMP Karting Club Competition Credentials in order to participate in NJMP Competition Practice sessions.
URL:https://njmp.com/event/njmp-comp-practice-liberator/2026-04-19/
CATEGORIES:Liberator
END:VEVENT
END:VCALENDAR